BEGIN:VCALENDAR
VERSION:2.0
PRODID:-//SOLWIN - ECPv6.14.1//NONSGML v1.0//EN
CALSCALE:GREGORIAN
METHOD:PUBLISH
X-ORIGINAL-URL:https://solwin.tv
X-WR-CALDESC:Events for SOLWIN
REFRESH-INTERVAL;VALUE=DURATION:PT1H
X-Robots-Tag:noindex
X-PUBLISHED-TTL:PT1H
BEGIN:VTIMEZONE
TZID:America/New_York
BEGIN:DAYLIGHT
TZOFFSETFROM:-0500
TZOFFSETTO:-0400
TZNAME:EDT
DTSTART:20230312T070000
END:DAYLIGHT
BEGIN:STANDARD
TZOFFSETFROM:-0400
TZOFFSETTO:-0500
TZNAME:EST
DTSTART:20231105T060000
END:STANDARD
BEGIN:DAYLIGHT
TZOFFSETFROM:-0500
TZOFFSETTO:-0400
TZNAME:EDT
DTSTART:20240310T070000
END:DAYLIGHT
BEGIN:STANDARD
TZOFFSETFROM:-0400
TZOFFSETTO:-0500
TZNAME:EST
DTSTART:20241103T060000
END:STANDARD
END:VTIMEZONE
BEGIN:VEVENT
DTSTART;TZID=America/New_York:20241229T133000
DTEND;TZID=America/New_York:20241229T140000
DTSTAMP:20260419T174945
CREATED:20241216T185434Z
LAST-MODIFIED:20241216T185434Z
UID:9222-1735479000-1735480800@solwin.tv
SUMMARY:Abundantly Able Podcast with Danielle Renee
DESCRIPTION:Danielle Renee is a podcast host\, entrepreneur\, practitioner (COTA/L)\, domestic violence survivor\, and Certified Christian Life Coach. Danielle has dedicated her life to the Abundantly Able community. The Abundantly Able community is made up of Christians of all ages\, who battle disorders\, disabilities\, and other diagnosis.\nDanielle is the business owner of a faith-based business\, Good Worx Brain Worx LLC which focuses on brain health and life coaching. She has also partnered with a national\, faith-based\, therapy company in order to advocate for\, and rehabilitate the geriatric population.
URL:https://solwin.tv/channelschedule/abundantly-able-podcast-with-danielle-renee-11/
CATEGORIES:Abundantly Able Podcast
ATTACH;FMTTYPE=image/jpeg:https://solwin.tv/wp-content/uploads/2024/12/danielle.jpg
END:VEVENT
BEGIN:VEVENT
DTSTART;TZID=America/New_York:20241222T133000
DTEND;TZID=America/New_York:20241222T140000
DTSTAMP:20260419T174945
CREATED:20241216T185434Z
LAST-MODIFIED:20241216T185434Z
UID:9221-1734874200-1734876000@solwin.tv
SUMMARY:Abundantly Able Podcast with Danielle Renee
DESCRIPTION:Danielle Renee is a podcast host\, entrepreneur\, practitioner (COTA/L)\, domestic violence survivor\, and Certified Christian Life Coach. Danielle has dedicated her life to the Abundantly Able community. The Abundantly Able community is made up of Christians of all ages\, who battle disorders\, disabilities\, and other diagnosis.\nDanielle is the business owner of a faith-based business\, Good Worx Brain Worx LLC which focuses on brain health and life coaching. She has also partnered with a national\, faith-based\, therapy company in order to advocate for\, and rehabilitate the geriatric population.
URL:https://solwin.tv/channelschedule/abundantly-able-podcast-with-danielle-renee-10/
CATEGORIES:Abundantly Able Podcast
ATTACH;FMTTYPE=image/jpeg:https://solwin.tv/wp-content/uploads/2024/12/danielle.jpg
END:VEVENT
BEGIN:VEVENT
DTSTART;TZID=America/New_York:20230226T133000
DTEND;TZID=America/New_York:20230226T133000
DTSTAMP:20260419T174945
CREATED:20230124T202908Z
LAST-MODIFIED:20230124T202908Z
UID:5449-1677418200-1677418200@solwin.tv
SUMMARY:Abundantly Able Podcast with Danielle Renee
DESCRIPTION:Danielle Renee is a podcast host\, entrepreneur\, practitioner (COTA/L)\, domestic violence survivor\, and Certified Christian Life Coach. Danielle has dedicated her life to the Abundantly Able community. The Abundantly Able community is made up of Christians of all ages\, who battle disorders\, disabilities\, and other diagnosis.Danielle is the business owner of a faith-based business\, Good Worx Brain Worx LLC which focuses on brain health and life coaching. She has also partnered with a national\, faith-based\, therapy company in order to advocate for\, and rehabilitate the geriatric population.
URL:https://solwin.tv/channelschedule/abundantly-able-podcast-with-danielle-renee-9/
CATEGORIES:Abundantly Able Podcast
END:VEVENT
BEGIN:VEVENT
DTSTART;TZID=America/New_York:20230219T133000
DTEND;TZID=America/New_York:20230219T133000
DTSTAMP:20260419T174945
CREATED:20230124T202907Z
LAST-MODIFIED:20230124T202907Z
UID:5448-1676813400-1676813400@solwin.tv
SUMMARY:Abundantly Able Podcast with Danielle Renee
DESCRIPTION:Danielle Renee is a podcast host\, entrepreneur\, practitioner (COTA/L)\, domestic violence survivor\, and Certified Christian Life Coach. Danielle has dedicated her life to the Abundantly Able community. The Abundantly Able community is made up of Christians of all ages\, who battle disorders\, disabilities\, and other diagnosis.Danielle is the business owner of a faith-based business\, Good Worx Brain Worx LLC which focuses on brain health and life coaching. She has also partnered with a national\, faith-based\, therapy company in order to advocate for\, and rehabilitate the geriatric population.
URL:https://solwin.tv/channelschedule/abundantly-able-podcast-with-danielle-renee-8/
CATEGORIES:Abundantly Able Podcast
END:VEVENT
BEGIN:VEVENT
DTSTART;TZID=America/New_York:20230212T133000
DTEND;TZID=America/New_York:20230212T133000
DTSTAMP:20260419T174945
CREATED:20230124T202907Z
LAST-MODIFIED:20230124T202907Z
UID:5447-1676208600-1676208600@solwin.tv
SUMMARY:Abundantly Able Podcast with Danielle Renee
DESCRIPTION:Danielle Renee is a podcast host\, entrepreneur\, practitioner (COTA/L)\, domestic violence survivor\, and Certified Christian Life Coach. Danielle has dedicated her life to the Abundantly Able community. The Abundantly Able community is made up of Christians of all ages\, who battle disorders\, disabilities\, and other diagnosis.Danielle is the business owner of a faith-based business\, Good Worx Brain Worx LLC which focuses on brain health and life coaching. She has also partnered with a national\, faith-based\, therapy company in order to advocate for\, and rehabilitate the geriatric population.
URL:https://solwin.tv/channelschedule/abundantly-able-podcast-with-danielle-renee-7/
CATEGORIES:Abundantly Able Podcast
END:VEVENT
BEGIN:VEVENT
DTSTART;TZID=America/New_York:20230205T133000
DTEND;TZID=America/New_York:20230205T133000
DTSTAMP:20260419T174945
CREATED:20230124T202900Z
LAST-MODIFIED:20230124T202900Z
UID:5446-1675603800-1675603800@solwin.tv
SUMMARY:Abundantly Able Podcast with Danielle Renee
DESCRIPTION:Danielle Renee is a podcast host\, entrepreneur\, practitioner (COTA/L)\, domestic violence survivor\, and Certified Christian Life Coach. Danielle has dedicated her life to the Abundantly Able community. The Abundantly Able community is made up of Christians of all ages\, who battle disorders\, disabilities\, and other diagnosis.Danielle is the business owner of a faith-based business\, Good Worx Brain Worx LLC which focuses on brain health and life coaching. She has also partnered with a national\, faith-based\, therapy company in order to advocate for\, and rehabilitate the geriatric population.
URL:https://solwin.tv/channelschedule/abundantly-able-podcast-with-danielle-renee-6/
CATEGORIES:Abundantly Able Podcast
END:VEVENT
BEGIN:VEVENT
DTSTART;TZID=America/New_York:20230129T133000
DTEND;TZID=America/New_York:20230129T133000
DTSTAMP:20260419T174945
CREATED:20230106T220856Z
LAST-MODIFIED:20230106T220856Z
UID:5248-1674999000-1674999000@solwin.tv
SUMMARY:Abundantly Able Podcast with Danielle Renee
DESCRIPTION:Danielle Renee is a podcast host\, entrepreneur\, practitioner (COTA/L)\, domestic violence survivor\, and Certified Christian Life Coach. Danielle has dedicated her life to the Abundantly Able community. The Abundantly Able community is made up of Christians of all ages\, who battle disorders\, disabilities\, and other diagnosis.Danielle is the business owner of a faith-based business\, Good Worx Brain Worx LLC which focuses on brain health and life coaching. She has also partnered with a national\, faith-based\, therapy company in order to advocate for\, and rehabilitate the geriatric population.
URL:https://solwin.tv/channelschedule/abundantly-able-podcast-with-danielle-renee-5/
CATEGORIES:Abundantly Able Podcast
END:VEVENT
BEGIN:VEVENT
DTSTART;TZID=America/New_York:20230122T133000
DTEND;TZID=America/New_York:20230122T133000
DTSTAMP:20260419T174945
CREATED:20230106T220856Z
LAST-MODIFIED:20230106T220856Z
UID:5247-1674394200-1674394200@solwin.tv
SUMMARY:Abundantly Able Podcast with Danielle Renee
DESCRIPTION:Danielle Renee is a podcast host\, entrepreneur\, practitioner (COTA/L)\, domestic violence survivor\, and Certified Christian Life Coach. Danielle has dedicated her life to the Abundantly Able community. The Abundantly Able community is made up of Christians of all ages\, who battle disorders\, disabilities\, and other diagnosis.Danielle is the business owner of a faith-based business\, Good Worx Brain Worx LLC which focuses on brain health and life coaching. She has also partnered with a national\, faith-based\, therapy company in order to advocate for\, and rehabilitate the geriatric population.
URL:https://solwin.tv/channelschedule/abundantly-able-podcast-with-danielle-renee-4/
CATEGORIES:Abundantly Able Podcast
END:VEVENT
BEGIN:VEVENT
DTSTART;TZID=America/New_York:20230115T133000
DTEND;TZID=America/New_York:20230115T133000
DTSTAMP:20260419T174945
CREATED:20230106T220856Z
LAST-MODIFIED:20230106T220856Z
UID:5246-1673789400-1673789400@solwin.tv
SUMMARY:Abundantly Able Podcast with Danielle Renee
DESCRIPTION:Danielle Renee is a podcast host\, entrepreneur\, practitioner (COTA/L)\, domestic violence survivor\, and Certified Christian Life Coach. Danielle has dedicated her life to the Abundantly Able community. The Abundantly Able community is made up of Christians of all ages\, who battle disorders\, disabilities\, and other diagnosis.Danielle is the business owner of a faith-based business\, Good Worx Brain Worx LLC which focuses on brain health and life coaching. She has also partnered with a national\, faith-based\, therapy company in order to advocate for\, and rehabilitate the geriatric population.
URL:https://solwin.tv/channelschedule/abundantly-able-podcast-with-danielle-renee-3/
CATEGORIES:Abundantly Able Podcast
END:VEVENT
BEGIN:VEVENT
DTSTART;TZID=America/New_York:20230108T133000
DTEND;TZID=America/New_York:20230108T133000
DTSTAMP:20260419T174945
CREATED:20230106T220856Z
LAST-MODIFIED:20230106T220856Z
UID:5245-1673184600-1673184600@solwin.tv
SUMMARY:Abundantly Able Podcast with Danielle Renee
DESCRIPTION:Danielle Renee is a podcast host\, entrepreneur\, practitioner (COTA/L)\, domestic violence survivor\, and Certified Christian Life Coach. Danielle has dedicated her life to the Abundantly Able community. The Abundantly Able community is made up of Christians of all ages\, who battle disorders\, disabilities\, and other diagnosis.Danielle is the business owner of a faith-based business\, Good Worx Brain Worx LLC which focuses on brain health and life coaching. She has also partnered with a national\, faith-based\, therapy company in order to advocate for\, and rehabilitate the geriatric population.
URL:https://solwin.tv/channelschedule/abundantly-able-podcast-with-danielle-renee-2/
CATEGORIES:Abundantly Able Podcast
END:VEVENT
BEGIN:VEVENT
DTSTART;TZID=America/New_York:20230101T133000
DTEND;TZID=America/New_York:20230101T133000
DTSTAMP:20260419T174945
CREATED:20230106T220856Z
LAST-MODIFIED:20230106T220856Z
UID:5244-1672579800-1672579800@solwin.tv
SUMMARY:Abundantly Able Podcast with Danielle Renee
DESCRIPTION:Danielle Renee is a podcast host\, entrepreneur\, practitioner (COTA/L)\, domestic violence survivor\, and Certified Christian Life Coach. Danielle has dedicated her life to the Abundantly Able community. The Abundantly Able community is made up of Christians of all ages\, who battle disorders\, disabilities\, and other diagnosis.Danielle is the business owner of a faith-based business\, Good Worx Brain Worx LLC which focuses on brain health and life coaching. She has also partnered with a national\, faith-based\, therapy company in order to advocate for\, and rehabilitate the geriatric population.
URL:https://solwin.tv/channelschedule/abundantly-able-podcast-with-danielle-renee/
CATEGORIES:Abundantly Able Podcast
END:VEVENT
END:VCALENDAR