BEGIN:VCALENDAR
VERSION:2.0
PRODID:-//SOLWIN - ECPv6.14.1//NONSGML v1.0//EN
CALSCALE:GREGORIAN
METHOD:PUBLISH
X-WR-CALNAME:SOLWIN
X-ORIGINAL-URL:https://solwin.tv
X-WR-CALDESC:Events for SOLWIN
REFRESH-INTERVAL;VALUE=DURATION:PT1H
X-Robots-Tag:noindex
X-PUBLISHED-TTL:PT1H
BEGIN:VTIMEZONE
TZID:America/New_York
BEGIN:DAYLIGHT
TZOFFSETFROM:-0500
TZOFFSETTO:-0400
TZNAME:EDT
DTSTART:20230312T070000
END:DAYLIGHT
BEGIN:STANDARD
TZOFFSETFROM:-0400
TZOFFSETTO:-0500
TZNAME:EST
DTSTART:20231105T060000
END:STANDARD
END:VTIMEZONE
BEGIN:VEVENT
DTSTART;TZID=America/New_York:20230502T170000
DTEND;TZID=America/New_York:20230502T173000
DTSTAMP:20260423T044057
CREATED:20230412T234721Z
LAST-MODIFIED:20230412T234721Z
UID:6378-1683046800-1683048600@solwin.tv
SUMMARY:DestinyX with Destiny Yarbrough
DESCRIPTION:Making a difference for the next generation.
URL:https://solwin.tv/channelschedule/destinyx-with-destiny-yarbrough-13/
CATEGORIES:DestinyX
END:VEVENT
BEGIN:VEVENT
DTSTART;TZID=America/New_York:20230425T170000
DTEND;TZID=America/New_York:20230425T173000
DTSTAMP:20260423T044057
CREATED:20230322T192719Z
LAST-MODIFIED:20230322T192719Z
UID:6108-1682442000-1682443800@solwin.tv
SUMMARY:DestinyX with Destiny Yarbrough
DESCRIPTION:Making a difference for the next generation.
URL:https://solwin.tv/channelschedule/destinyx-with-destiny-yarbrough-12/
CATEGORIES:DestinyX
END:VEVENT
BEGIN:VEVENT
DTSTART;TZID=America/New_York:20230418T170000
DTEND;TZID=America/New_York:20230418T173000
DTSTAMP:20260423T044057
CREATED:20230322T192719Z
LAST-MODIFIED:20230322T192719Z
UID:6107-1681837200-1681839000@solwin.tv
SUMMARY:DestinyX with Destiny Yarbrough
DESCRIPTION:Making a difference for the next generation.
URL:https://solwin.tv/channelschedule/destinyx-with-destiny-yarbrough-11/
CATEGORIES:DestinyX
END:VEVENT
BEGIN:VEVENT
DTSTART;TZID=America/New_York:20230411T170000
DTEND;TZID=America/New_York:20230411T173000
DTSTAMP:20260423T044057
CREATED:20230322T192718Z
LAST-MODIFIED:20230322T192718Z
UID:6106-1681232400-1681234200@solwin.tv
SUMMARY:DestinyX with Destiny Yarbrough
DESCRIPTION:Making a difference for the next generation.
URL:https://solwin.tv/channelschedule/destinyx-with-destiny-yarbrough-10/
CATEGORIES:DestinyX
END:VEVENT
BEGIN:VEVENT
DTSTART;TZID=America/New_York:20230404T170000
DTEND;TZID=America/New_York:20230404T173000
DTSTAMP:20260423T044057
CREATED:20230322T192718Z
LAST-MODIFIED:20230322T192718Z
UID:6105-1680627600-1680629400@solwin.tv
SUMMARY:DestinyX with Destiny Yarbrough
DESCRIPTION:Making a difference for the next generation.
URL:https://solwin.tv/channelschedule/destinyx-with-destiny-yarbrough-9/
CATEGORIES:DestinyX
END:VEVENT
BEGIN:VEVENT
DTSTART;TZID=America/New_York:20230328T170000
DTEND;TZID=America/New_York:20230328T173000
DTSTAMP:20260423T044057
CREATED:20230223T180352Z
LAST-MODIFIED:20230223T180352Z
UID:5700-1680022800-1680024600@solwin.tv
SUMMARY:DestinyX with Destiny Yarbrough
DESCRIPTION:Making a difference for the next generation.
URL:https://solwin.tv/channelschedule/destinyx-with-destiny-yarbrough-8/
CATEGORIES:DestinyX
END:VEVENT
BEGIN:VEVENT
DTSTART;TZID=America/New_York:20230321T170000
DTEND;TZID=America/New_York:20230321T173000
DTSTAMP:20260423T044057
CREATED:20230223T180352Z
LAST-MODIFIED:20230223T180352Z
UID:5699-1679418000-1679419800@solwin.tv
SUMMARY:DestinyX with Destiny Yarbrough
DESCRIPTION:Making a difference for the next generation.
URL:https://solwin.tv/channelschedule/destinyx-with-destiny-yarbrough-7/
CATEGORIES:DestinyX
END:VEVENT
BEGIN:VEVENT
DTSTART;TZID=America/New_York:20230314T170000
DTEND;TZID=America/New_York:20230314T173000
DTSTAMP:20260423T044057
CREATED:20230223T180352Z
LAST-MODIFIED:20230223T180352Z
UID:5698-1678813200-1678815000@solwin.tv
SUMMARY:DestinyX with Destiny Yarbrough
DESCRIPTION:Making a difference for the next generation.
URL:https://solwin.tv/channelschedule/destinyx-with-destiny-yarbrough-6/
CATEGORIES:DestinyX
END:VEVENT
BEGIN:VEVENT
DTSTART;TZID=America/New_York:20230307T170000
DTEND;TZID=America/New_York:20230307T173000
DTSTAMP:20260423T044057
CREATED:20230223T180352Z
LAST-MODIFIED:20230223T180352Z
UID:5697-1678208400-1678210200@solwin.tv
SUMMARY:DestinyX with Destiny Yarbrough
DESCRIPTION:Making a difference for the next generation.
URL:https://solwin.tv/channelschedule/destinyx-with-destiny-yarbrough-5/
CATEGORIES:DestinyX
END:VEVENT
BEGIN:VEVENT
DTSTART;TZID=America/New_York:20230228T170000
DTEND;TZID=America/New_York:20230228T173000
DTSTAMP:20260423T044057
CREATED:20230118T095706Z
LAST-MODIFIED:20230118T095706Z
UID:5343-1677603600-1677605400@solwin.tv
SUMMARY:DestinyX with Destiny Yarbrough
DESCRIPTION:Making a difference for the next generation.
URL:https://solwin.tv/channelschedule/destinyx-with-destiny-yarbrough-4/
CATEGORIES:DestinyX
END:VEVENT
BEGIN:VEVENT
DTSTART;TZID=America/New_York:20230221T170000
DTEND;TZID=America/New_York:20230221T173000
DTSTAMP:20260423T044057
CREATED:20230118T095706Z
LAST-MODIFIED:20230118T095706Z
UID:5342-1676998800-1677000600@solwin.tv
SUMMARY:DestinyX with Destiny Yarbrough
DESCRIPTION:Making a difference for the next generation.
URL:https://solwin.tv/channelschedule/destinyx-with-destiny-yarbrough-3/
CATEGORIES:DestinyX
END:VEVENT
BEGIN:VEVENT
DTSTART;TZID=America/New_York:20230214T170000
DTEND;TZID=America/New_York:20230214T173000
DTSTAMP:20260423T044057
CREATED:20230118T095706Z
LAST-MODIFIED:20230118T095706Z
UID:5341-1676394000-1676395800@solwin.tv
SUMMARY:DestinyX with Destiny Yarbrough
DESCRIPTION:Making a difference for the next generation.
URL:https://solwin.tv/channelschedule/destinyx-with-destiny-yarbrough-2/
CATEGORIES:DestinyX
END:VEVENT
BEGIN:VEVENT
DTSTART;TZID=America/New_York:20230207T170000
DTEND;TZID=America/New_York:20230207T173000
DTSTAMP:20260423T044057
CREATED:20230118T095706Z
LAST-MODIFIED:20230118T095706Z
UID:5340-1675789200-1675791000@solwin.tv
SUMMARY:DestinyX with Destiny Yarbrough
DESCRIPTION:Making a difference for the next generation.
URL:https://solwin.tv/channelschedule/destinyx-with-destiny-yarbrough/
CATEGORIES:DestinyX
END:VEVENT
END:VCALENDAR