BEGIN:VCALENDAR
VERSION:2.0
PRODID:-//SOLWIN - ECPv6.14.1//NONSGML v1.0//EN
CALSCALE:GREGORIAN
METHOD:PUBLISH
X-ORIGINAL-URL:https://solwin.tv
X-WR-CALDESC:Events for SOLWIN
REFRESH-INTERVAL;VALUE=DURATION:PT1H
X-Robots-Tag:noindex
X-PUBLISHED-TTL:PT1H
BEGIN:VTIMEZONE
TZID:America/New_York
BEGIN:DAYLIGHT
TZOFFSETFROM:-0500
TZOFFSETTO:-0400
TZNAME:EDT
DTSTART:20230312T070000
END:DAYLIGHT
BEGIN:STANDARD
TZOFFSETFROM:-0400
TZOFFSETTO:-0500
TZNAME:EST
DTSTART:20231105T060000
END:STANDARD
END:VTIMEZONE
BEGIN:VEVENT
DTSTART;TZID=America/New_York:20230109T140000
DTEND;TZID=America/New_York:20230109T143000
DTSTAMP:20260423T062347
CREATED:20230104T154542Z
LAST-MODIFIED:20230104T154542Z
UID:4953-1673272800-1673274600@solwin.tv
SUMMARY:Godfident Today with Maggie Kavanaugh
DESCRIPTION:We Don’t know all the answers\, but we know the one who does.
URL:https://solwin.tv/channelschedule/godfident-today-with-maggie-kavanaugh-10/
CATEGORIES:Godfident Today
END:VEVENT
BEGIN:VEVENT
DTSTART;TZID=America/New_York:20230102T140000
DTEND;TZID=America/New_York:20230102T143000
DTSTAMP:20260423T062347
CREATED:20230104T154542Z
LAST-MODIFIED:20230104T154542Z
UID:4952-1672668000-1672669800@solwin.tv
SUMMARY:Godfident Today with Maggie Kavanaugh
DESCRIPTION:We Don’t know all the answers\, but we know the one who does.
URL:https://solwin.tv/channelschedule/godfident-today-with-maggie-kavanaugh-9/
CATEGORIES:Godfident Today
END:VEVENT
END:VCALENDAR