BEGIN:VCALENDAR
VERSION:2.0
PRODID:-//SOLWIN - ECPv6.14.1//NONSGML v1.0//EN
CALSCALE:GREGORIAN
METHOD:PUBLISH
X-ORIGINAL-URL:https://solwin.tv
X-WR-CALDESC:Events for SOLWIN
REFRESH-INTERVAL;VALUE=DURATION:PT1H
X-Robots-Tag:noindex
X-PUBLISHED-TTL:PT1H
BEGIN:VTIMEZONE
TZID:America/New_York
BEGIN:DAYLIGHT
TZOFFSETFROM:-0500
TZOFFSETTO:-0400
TZNAME:EDT
DTSTART:20220313T070000
END:DAYLIGHT
BEGIN:STANDARD
TZOFFSETFROM:-0400
TZOFFSETTO:-0500
TZNAME:EST
DTSTART:20221106T060000
END:STANDARD
BEGIN:DAYLIGHT
TZOFFSETFROM:-0500
TZOFFSETTO:-0400
TZNAME:EDT
DTSTART:20230312T070000
END:DAYLIGHT
BEGIN:STANDARD
TZOFFSETFROM:-0400
TZOFFSETTO:-0500
TZNAME:EST
DTSTART:20231105T060000
END:STANDARD
END:VTIMEZONE
BEGIN:VEVENT
DTSTART;TZID=America/New_York:20230518T200000
DTEND;TZID=America/New_York:20230518T203000
DTSTAMP:20260419T175222
CREATED:20230413T000728Z
LAST-MODIFIED:20230413T000728Z
UID:6434-1684440000-1684441800@solwin.tv
SUMMARY:Modwash Moments with DeAnn Alaine
DESCRIPTION:DeAnn Alaine knew from a young age that she was called by God to work in ministry. Little did she know that her calling would be as a comedienne\, actor\, TV show host\, and sitcom creator. The Bible says\, we are one body with many parts. DeAnn is the crevice between your toes.
URL:https://solwin.tv/channelschedule/modwash-moments-with-deann-alaine-29/
CATEGORIES:Modwash Moments
END:VEVENT
BEGIN:VEVENT
DTSTART;TZID=America/New_York:20230511T200000
DTEND;TZID=America/New_York:20230511T203000
DTSTAMP:20260419T175222
CREATED:20230413T000712Z
LAST-MODIFIED:20230413T000712Z
UID:6433-1683835200-1683837000@solwin.tv
SUMMARY:Modwash Moments with DeAnn Alaine
DESCRIPTION:DeAnn Alaine knew from a young age that she was called by God to work in ministry. Little did she know that her calling would be as a comedienne\, actor\, TV show host\, and sitcom creator. The Bible says\, we are one body with many parts. DeAnn is the crevice between your toes.
URL:https://solwin.tv/channelschedule/modwash-moments-with-deann-alaine-28/
CATEGORIES:Modwash Moments
END:VEVENT
BEGIN:VEVENT
DTSTART;TZID=America/New_York:20230504T200000
DTEND;TZID=America/New_York:20230504T203000
DTSTAMP:20260419T175222
CREATED:20230413T000712Z
LAST-MODIFIED:20230413T000712Z
UID:6432-1683230400-1683232200@solwin.tv
SUMMARY:Modwash Moments with DeAnn Alaine
DESCRIPTION:DeAnn Alaine knew from a young age that she was called by God to work in ministry. Little did she know that her calling would be as a comedienne\, actor\, TV show host\, and sitcom creator. The Bible says\, we are one body with many parts. DeAnn is the crevice between your toes.
URL:https://solwin.tv/channelschedule/modwash-moments-with-deann-alaine-27/
CATEGORIES:Modwash Moments
END:VEVENT
BEGIN:VEVENT
DTSTART;TZID=America/New_York:20230427T200000
DTEND;TZID=America/New_York:20230427T203000
DTSTAMP:20260419T175222
CREATED:20230322T193201Z
LAST-MODIFIED:20230322T193201Z
UID:6148-1682625600-1682627400@solwin.tv
SUMMARY:Modwash Moments with DeAnn Alaine
DESCRIPTION:DeAnn Alaine knew from a young age that she was called by God to work in ministry. Little did she know that her calling would be as a comedienne\, actor\, TV show host\, and sitcom creator. The Bible says\, we are one body with many parts. DeAnn is the crevice between your toes.
URL:https://solwin.tv/channelschedule/modwash-moments-with-deann-alaine-26/
CATEGORIES:Modwash Moments
END:VEVENT
BEGIN:VEVENT
DTSTART;TZID=America/New_York:20230420T200000
DTEND;TZID=America/New_York:20230420T203000
DTSTAMP:20260419T175222
CREATED:20230322T193201Z
LAST-MODIFIED:20230322T193201Z
UID:6147-1682020800-1682022600@solwin.tv
SUMMARY:Modwash Moments with DeAnn Alaine
DESCRIPTION:DeAnn Alaine knew from a young age that she was called by God to work in ministry. Little did she know that her calling would be as a comedienne\, actor\, TV show host\, and sitcom creator. The Bible says\, we are one body with many parts. DeAnn is the crevice between your toes.
URL:https://solwin.tv/channelschedule/modwash-moments-with-deann-alaine-25/
CATEGORIES:Modwash Moments
END:VEVENT
BEGIN:VEVENT
DTSTART;TZID=America/New_York:20230413T200000
DTEND;TZID=America/New_York:20230413T203000
DTSTAMP:20260419T175222
CREATED:20230322T193201Z
LAST-MODIFIED:20230322T193201Z
UID:6146-1681416000-1681417800@solwin.tv
SUMMARY:Modwash Moments with DeAnn Alaine
DESCRIPTION:DeAnn Alaine knew from a young age that she was called by God to work in ministry. Little did she know that her calling would be as a comedienne\, actor\, TV show host\, and sitcom creator. The Bible says\, we are one body with many parts. DeAnn is the crevice between your toes.
URL:https://solwin.tv/channelschedule/modwash-moments-with-deann-alaine-24/
CATEGORIES:Modwash Moments
END:VEVENT
BEGIN:VEVENT
DTSTART;TZID=America/New_York:20230406T200000
DTEND;TZID=America/New_York:20230406T203000
DTSTAMP:20260419T175222
CREATED:20230322T193201Z
LAST-MODIFIED:20230322T193201Z
UID:6145-1680811200-1680813000@solwin.tv
SUMMARY:Modwash Moments with DeAnn Alaine
DESCRIPTION:DeAnn Alaine knew from a young age that she was called by God to work in ministry. Little did she know that her calling would be as a comedienne\, actor\, TV show host\, and sitcom creator. The Bible says\, we are one body with many parts. DeAnn is the crevice between your toes.
URL:https://solwin.tv/channelschedule/modwash-moments-with-deann-alaine-23/
CATEGORIES:Modwash Moments
END:VEVENT
BEGIN:VEVENT
DTSTART;TZID=America/New_York:20230330T200000
DTEND;TZID=America/New_York:20230330T203000
DTSTAMP:20260419T175222
CREATED:20230223T180555Z
LAST-MODIFIED:20230223T180555Z
UID:5756-1680206400-1680208200@solwin.tv
SUMMARY:Modwash Moments with DeAnn Alaine
DESCRIPTION:DeAnn Alaine knew from a young age that she was called by God to work in ministry. Little did she know that her calling would be as a comedienne\, actor\, TV show host\, and sitcom creator. The Bible says\, we are one body with many parts. DeAnn is the crevice between your toes.
URL:https://solwin.tv/channelschedule/modwash-moments-with-deann-alaine-22/
CATEGORIES:Modwash Moments
END:VEVENT
BEGIN:VEVENT
DTSTART;TZID=America/New_York:20230323T200000
DTEND;TZID=America/New_York:20230323T203000
DTSTAMP:20260419T175222
CREATED:20230223T180555Z
LAST-MODIFIED:20230223T180555Z
UID:5755-1679601600-1679603400@solwin.tv
SUMMARY:Modwash Moments with DeAnn Alaine
DESCRIPTION:DeAnn Alaine knew from a young age that she was called by God to work in ministry. Little did she know that her calling would be as a comedienne\, actor\, TV show host\, and sitcom creator. The Bible says\, we are one body with many parts. DeAnn is the crevice between your toes.
URL:https://solwin.tv/channelschedule/modwash-moments-with-deann-alaine-15/
CATEGORIES:Modwash Moments
END:VEVENT
BEGIN:VEVENT
DTSTART;TZID=America/New_York:20230316T200000
DTEND;TZID=America/New_York:20230316T203000
DTSTAMP:20260419T175222
CREATED:20230223T180555Z
LAST-MODIFIED:20230223T180555Z
UID:5754-1678996800-1678998600@solwin.tv
SUMMARY:Modwash Moments with DeAnn Alaine
DESCRIPTION:DeAnn Alaine knew from a young age that she was called by God to work in ministry. Little did she know that her calling would be as a comedienne\, actor\, TV show host\, and sitcom creator. The Bible says\, we are one body with many parts. DeAnn is the crevice between your toes.
URL:https://solwin.tv/channelschedule/modwash-moments-with-deann-alaine-14/
CATEGORIES:Modwash Moments
END:VEVENT
BEGIN:VEVENT
DTSTART;TZID=America/New_York:20230309T200000
DTEND;TZID=America/New_York:20230309T203000
DTSTAMP:20260419T175222
CREATED:20230223T180555Z
LAST-MODIFIED:20230223T180555Z
UID:5753-1678392000-1678393800@solwin.tv
SUMMARY:Modwash Moments with DeAnn Alaine
DESCRIPTION:DeAnn Alaine knew from a young age that she was called by God to work in ministry. Little did she know that her calling would be as a comedienne\, actor\, TV show host\, and sitcom creator. The Bible says\, we are one body with many parts. DeAnn is the crevice between your toes.
URL:https://solwin.tv/channelschedule/modwash-moments-with-deann-alaine-13/
CATEGORIES:Modwash Moments
END:VEVENT
BEGIN:VEVENT
DTSTART;TZID=America/New_York:20230302T200000
DTEND;TZID=America/New_York:20230302T203000
DTSTAMP:20260419T175222
CREATED:20230223T180555Z
LAST-MODIFIED:20230223T180555Z
UID:5752-1677787200-1677789000@solwin.tv
SUMMARY:Modwash Moments with DeAnn Alaine
DESCRIPTION:DeAnn Alaine knew from a young age that she was called by God to work in ministry. Little did she know that her calling would be as a comedienne\, actor\, TV show host\, and sitcom creator. The Bible says\, we are one body with many parts. DeAnn is the crevice between your toes.
URL:https://solwin.tv/channelschedule/modwash-moments-with-deann-alaine-12/
CATEGORIES:Modwash Moments
END:VEVENT
BEGIN:VEVENT
DTSTART;TZID=America/New_York:20230223T200000
DTEND;TZID=America/New_York:20230223T203000
DTSTAMP:20260419T175222
CREATED:20230118T100259Z
LAST-MODIFIED:20230118T100259Z
UID:5383-1677182400-1677184200@solwin.tv
SUMMARY:Modwash Moments with DeAnn Alaine
DESCRIPTION:DeAnn Alaine knew from a young age that she was called by God to work in ministry. Little did she know that her calling would be as a comedienne\, actor\, TV show host\, and sitcom creator. The Bible says\, we are one body with many parts. DeAnn is the crevice between your toes.
URL:https://solwin.tv/channelschedule/modwash-moments-with-deann-alaine-21/
CATEGORIES:Modwash Moments
END:VEVENT
BEGIN:VEVENT
DTSTART;TZID=America/New_York:20230216T200000
DTEND;TZID=America/New_York:20230216T203000
DTSTAMP:20260419T175222
CREATED:20230118T100259Z
LAST-MODIFIED:20230118T100259Z
UID:5382-1676577600-1676579400@solwin.tv
SUMMARY:Modwash Moments with DeAnn Alaine
DESCRIPTION:DeAnn Alaine knew from a young age that she was called by God to work in ministry. Little did she know that her calling would be as a comedienne\, actor\, TV show host\, and sitcom creator. The Bible says\, we are one body with many parts. DeAnn is the crevice between your toes.
URL:https://solwin.tv/channelschedule/modwash-moments-with-deann-alaine-20/
CATEGORIES:Modwash Moments
END:VEVENT
BEGIN:VEVENT
DTSTART;TZID=America/New_York:20230209T200000
DTEND;TZID=America/New_York:20230209T203000
DTSTAMP:20260419T175222
CREATED:20230118T100259Z
LAST-MODIFIED:20230118T100259Z
UID:5381-1675972800-1675974600@solwin.tv
SUMMARY:Modwash Moments with DeAnn Alaine
DESCRIPTION:DeAnn Alaine knew from a young age that she was called by God to work in ministry. Little did she know that her calling would be as a comedienne\, actor\, TV show host\, and sitcom creator. The Bible says\, we are one body with many parts. DeAnn is the crevice between your toes.
URL:https://solwin.tv/channelschedule/modwash-moments-with-deann-alaine-19/
CATEGORIES:Modwash Moments
END:VEVENT
BEGIN:VEVENT
DTSTART;TZID=America/New_York:20230202T200000
DTEND;TZID=America/New_York:20230202T203000
DTSTAMP:20260419T175222
CREATED:20230118T100259Z
LAST-MODIFIED:20230118T100259Z
UID:5380-1675368000-1675369800@solwin.tv
SUMMARY:Modwash Moments with DeAnn Alaine
DESCRIPTION:DeAnn Alaine knew from a young age that she was called by God to work in ministry. Little did she know that her calling would be as a comedienne\, actor\, TV show host\, and sitcom creator. The Bible says\, we are one body with many parts. DeAnn is the crevice between your toes.
URL:https://solwin.tv/channelschedule/modwash-moments-with-deann-alaine-18/
CATEGORIES:Modwash Moments
END:VEVENT
BEGIN:VEVENT
DTSTART;TZID=America/New_York:20230126T200000
DTEND;TZID=America/New_York:20230126T203000
DTSTAMP:20260419T175222
CREATED:20230106T185311Z
LAST-MODIFIED:20230106T185311Z
UID:5207-1674763200-1674765000@solwin.tv
SUMMARY:Modwash Moments with DeAnn Alaine
DESCRIPTION:DeAnn Alaine knew from a young age that she was called by God to work in ministry. Little did she know that her calling would be as a comedienne\, actor\, TV show host\, and sitcom creator. The Bible says\, we are one body with many parts. DeAnn is the crevice between your toes.
URL:https://solwin.tv/channelschedule/modwash-moments-with-deann-alaine-17/
CATEGORIES:Modwash Moments
END:VEVENT
BEGIN:VEVENT
DTSTART;TZID=America/New_York:20230119T200000
DTEND;TZID=America/New_York:20230119T203000
DTSTAMP:20260419T175222
CREATED:20230106T185310Z
LAST-MODIFIED:20230106T185310Z
UID:5206-1674158400-1674160200@solwin.tv
SUMMARY:Modwash Moments with DeAnn Alaine
DESCRIPTION:DeAnn Alaine knew from a young age that she was called by God to work in ministry. Little did she know that her calling would be as a comedienne\, actor\, TV show host\, and sitcom creator. The Bible says\, we are one body with many parts. DeAnn is the crevice between your toes.
URL:https://solwin.tv/channelschedule/modwash-moments-with-deann-alaine-16/
CATEGORIES:Modwash Moments
END:VEVENT
BEGIN:VEVENT
DTSTART;TZID=America/New_York:20230112T200000
DTEND;TZID=America/New_York:20230112T203000
DTSTAMP:20260419T175222
CREATED:20230104T160617Z
LAST-MODIFIED:20230104T160617Z
UID:5021-1673553600-1673555400@solwin.tv
SUMMARY:Modwash Moments with DeAnn Alaine
DESCRIPTION:DeAnn Alaine knew from a young age that she was called by God to work in ministry. Little did she know that her calling would be as a comedienne\, actor\, TV show host\, and sitcom creator. The Bible says\, we are one body with many parts. DeAnn is the crevice between your toes.
URL:https://solwin.tv/channelschedule/modwash-moments-with-deann-alaine-11/
CATEGORIES:Modwash Moments
END:VEVENT
BEGIN:VEVENT
DTSTART;TZID=America/New_York:20230105T200000
DTEND;TZID=America/New_York:20230105T203000
DTSTAMP:20260419T175222
CREATED:20230104T160417Z
LAST-MODIFIED:20230104T160417Z
UID:5020-1672948800-1672950600@solwin.tv
SUMMARY:Modwash Moments with DeAnn Alaine
DESCRIPTION:DeAnn Alaine knew from a young age that she was called by God to work in ministry. Little did she know that her calling would be as a comedienne\, actor\, TV show host\, and sitcom creator. The Bible says\, we are one body with many parts. DeAnn is the crevice between your toes.
URL:https://solwin.tv/channelschedule/modwash-moments-with-deann-alaine-10/
CATEGORIES:Modwash Moments
END:VEVENT
BEGIN:VEVENT
DTSTART;TZID=America/New_York:20221229T200000
DTEND;TZID=America/New_York:20221229T203000
DTSTAMP:20260419T175222
CREATED:20221201T133007Z
LAST-MODIFIED:20221201T133007Z
UID:4698-1672344000-1672345800@solwin.tv
SUMMARY:Modwash Moments with DeAnn Alaine
DESCRIPTION:DeAnn Alaine knew from a young age that she was called by God to work in ministry. Little did she know that her calling would be as a comedienne\, actor\, TV show host\, and sitcom creator. The Bible says\, we are one body with many parts. DeAnn is the crevice between your toes.
URL:https://solwin.tv/channelschedule/modwash-moments-with-deann-alaine-9/
CATEGORIES:Modwash Moments
END:VEVENT
BEGIN:VEVENT
DTSTART;TZID=America/New_York:20221222T200000
DTEND;TZID=America/New_York:20221222T203000
DTSTAMP:20260419T175222
CREATED:20221201T132842Z
LAST-MODIFIED:20221201T132842Z
UID:4696-1671739200-1671741000@solwin.tv
SUMMARY:Modwash Moments with DeAnn Alaine
DESCRIPTION:DeAnn Alaine knew from a young age that she was called by God to work in ministry. Little did she know that her calling would be as a comedienne\, actor\, TV show host\, and sitcom creator. The Bible says\, we are one body with many parts. DeAnn is the crevice between your toes.
URL:https://solwin.tv/channelschedule/modwash-moments-with-deann-alaine-8/
CATEGORIES:Modwash Moments
END:VEVENT
BEGIN:VEVENT
DTSTART;TZID=America/New_York:20221215T200000
DTEND;TZID=America/New_York:20221215T203000
DTSTAMP:20260419T175222
CREATED:20221201T132045Z
LAST-MODIFIED:20221201T132045Z
UID:4694-1671134400-1671136200@solwin.tv
SUMMARY:Modwash Moments with DeAnn Alaine
DESCRIPTION:DeAnn Alaine knew from a young age that she was called by God to work in ministry. Little did she know that her calling would be as a comedienne\, actor\, TV show host\, and sitcom creator. The Bible says\, we are one body with many parts. DeAnn is the crevice between your toes.
URL:https://solwin.tv/channelschedule/modwash-moments-with-deann-alaine-7/
CATEGORIES:Modwash Moments
END:VEVENT
BEGIN:VEVENT
DTSTART;TZID=America/New_York:20221208T200000
DTEND;TZID=America/New_York:20221208T203000
DTSTAMP:20260419T175222
CREATED:20221201T131929Z
LAST-MODIFIED:20221201T131929Z
UID:4692-1670529600-1670531400@solwin.tv
SUMMARY:Modwash Moments with DeAnn Alaine
DESCRIPTION:DeAnn Alaine knew from a young age that she was called by God to work in ministry. Little did she know that her calling would be as a comedienne\, actor\, TV show host\, and sitcom creator. The Bible says\, we are one body with many parts. DeAnn is the crevice between your toes.
URL:https://solwin.tv/channelschedule/modwash-moments-with-deann-alaine-6/
CATEGORIES:Modwash Moments
END:VEVENT
BEGIN:VEVENT
DTSTART;TZID=America/New_York:20221201T200000
DTEND;TZID=America/New_York:20221201T203000
DTSTAMP:20260419T175222
CREATED:20221201T131822Z
LAST-MODIFIED:20221201T131822Z
UID:4690-1669924800-1669926600@solwin.tv
SUMMARY:Modwash Moments with DeAnn Alaine
DESCRIPTION:DeAnn Alaine knew from a young age that she was called by God to work in ministry. Little did she know that her calling would be as a comedienne\, actor\, TV show host\, and sitcom creator. The Bible says\, we are one body with many parts. DeAnn is the crevice between your toes.
URL:https://solwin.tv/channelschedule/modwash-moments-with-deann-alaine-5/
CATEGORIES:Modwash Moments
END:VEVENT
BEGIN:VEVENT
DTSTART;TZID=America/New_York:20221124T200000
DTEND;TZID=America/New_York:20221124T203000
DTSTAMP:20260419T175222
CREATED:20221101T230922Z
LAST-MODIFIED:20221101T230922Z
UID:4126-1669320000-1669321800@solwin.tv
SUMMARY:Modwash Moments with DeAnn Alaine
DESCRIPTION:DeAnn Alaine knew from a young age that she was called by God to work in ministry. Little did she know that her calling would be as a comedienne\, actor\, TV show host\, and sitcom creator. The Bible says\, we are one body with many parts. DeAnn is the crevice between your toes.
URL:https://solwin.tv/channelschedule/modwash-moments-with-deann-alaine-4/
CATEGORIES:Modwash Moments
END:VEVENT
BEGIN:VEVENT
DTSTART;TZID=America/New_York:20221117T200000
DTEND;TZID=America/New_York:20221117T203000
DTSTAMP:20260419T175222
CREATED:20221101T230839Z
LAST-MODIFIED:20221101T230839Z
UID:4124-1668715200-1668717000@solwin.tv
SUMMARY:Modwash Moments with DeAnn Alaine
DESCRIPTION:DeAnn Alaine knew from a young age that she was called by God to work in ministry. Little did she know that her calling would be as a comedienne\, actor\, TV show host\, and sitcom creator. The Bible says\, we are one body with many parts. DeAnn is the crevice between your toes.
URL:https://solwin.tv/channelschedule/modwash-moments-with-deann-alaine-3/
CATEGORIES:Modwash Moments
END:VEVENT
BEGIN:VEVENT
DTSTART;TZID=America/New_York:20221110T200000
DTEND;TZID=America/New_York:20221110T203000
DTSTAMP:20260419T175222
CREATED:20221101T230751Z
LAST-MODIFIED:20221101T230751Z
UID:4122-1668110400-1668112200@solwin.tv
SUMMARY:Modwash Moments with DeAnn Alaine
DESCRIPTION:DeAnn Alaine knew from a young age that she was called by God to work in ministry. Little did she know that her calling would be as a comedienne\, actor\, TV show host\, and sitcom creator. The Bible says\, we are one body with many parts. DeAnn is the crevice between your toes.
URL:https://solwin.tv/channelschedule/modwash-moments-with-deann-alaine-2/
CATEGORIES:Modwash Moments
END:VEVENT
BEGIN:VEVENT
DTSTART;TZID=America/New_York:20221103T200000
DTEND;TZID=America/New_York:20221103T203000
DTSTAMP:20260419T175222
CREATED:20221101T230711Z
LAST-MODIFIED:20221101T230711Z
UID:4120-1667505600-1667507400@solwin.tv
SUMMARY:Modwash Moments with DeAnn Alaine
DESCRIPTION:DeAnn Alaine knew from a young age that she was called by God to work in ministry. Little did she know that her calling would be as a comedienne\, actor\, TV show host\, and sitcom creator. The Bible says\, we are one body with many parts. DeAnn is the crevice between your toes.
URL:https://solwin.tv/channelschedule/modwash-moments-with-deann-alaine/
CATEGORIES:Modwash Moments
END:VEVENT
END:VCALENDAR