BEGIN:VCALENDAR
VERSION:2.0
PRODID:-//SOLWIN - ECPv6.14.1//NONSGML v1.0//EN
CALSCALE:GREGORIAN
METHOD:PUBLISH
X-WR-CALNAME:SOLWIN
X-ORIGINAL-URL:https://solwin.tv
X-WR-CALDESC:Events for SOLWIN
REFRESH-INTERVAL;VALUE=DURATION:PT1H
X-Robots-Tag:noindex
X-PUBLISHED-TTL:PT1H
BEGIN:VTIMEZONE
TZID:America/New_York
BEGIN:DAYLIGHT
TZOFFSETFROM:-0500
TZOFFSETTO:-0400
TZNAME:EDT
DTSTART:20220313T070000
END:DAYLIGHT
BEGIN:STANDARD
TZOFFSETFROM:-0400
TZOFFSETTO:-0500
TZNAME:EST
DTSTART:20221106T060000
END:STANDARD
END:VTIMEZONE
BEGIN:VEVENT
DTSTART;TZID=America/New_York:20221201T200000
DTEND;TZID=America/New_York:20221201T203000
DTSTAMP:20260419T210626
CREATED:20221201T131822Z
LAST-MODIFIED:20221201T131822Z
UID:4690-1669924800-1669926600@solwin.tv
SUMMARY:Modwash Moments with DeAnn Alaine
DESCRIPTION:DeAnn Alaine knew from a young age that she was called by God to work in ministry. Little did she know that her calling would be as a comedienne\, actor\, TV show host\, and sitcom creator. The Bible says\, we are one body with many parts. DeAnn is the crevice between your toes.
URL:https://solwin.tv/channelschedule/modwash-moments-with-deann-alaine-5/
CATEGORIES:Modwash Moments
END:VEVENT
BEGIN:VEVENT
DTSTART;TZID=America/New_York:20221124T200000
DTEND;TZID=America/New_York:20221124T203000
DTSTAMP:20260419T210626
CREATED:20221101T230922Z
LAST-MODIFIED:20221101T230922Z
UID:4126-1669320000-1669321800@solwin.tv
SUMMARY:Modwash Moments with DeAnn Alaine
DESCRIPTION:DeAnn Alaine knew from a young age that she was called by God to work in ministry. Little did she know that her calling would be as a comedienne\, actor\, TV show host\, and sitcom creator. The Bible says\, we are one body with many parts. DeAnn is the crevice between your toes.
URL:https://solwin.tv/channelschedule/modwash-moments-with-deann-alaine-4/
CATEGORIES:Modwash Moments
END:VEVENT
BEGIN:VEVENT
DTSTART;TZID=America/New_York:20221117T200000
DTEND;TZID=America/New_York:20221117T203000
DTSTAMP:20260419T210626
CREATED:20221101T230839Z
LAST-MODIFIED:20221101T230839Z
UID:4124-1668715200-1668717000@solwin.tv
SUMMARY:Modwash Moments with DeAnn Alaine
DESCRIPTION:DeAnn Alaine knew from a young age that she was called by God to work in ministry. Little did she know that her calling would be as a comedienne\, actor\, TV show host\, and sitcom creator. The Bible says\, we are one body with many parts. DeAnn is the crevice between your toes.
URL:https://solwin.tv/channelschedule/modwash-moments-with-deann-alaine-3/
CATEGORIES:Modwash Moments
END:VEVENT
BEGIN:VEVENT
DTSTART;TZID=America/New_York:20221110T200000
DTEND;TZID=America/New_York:20221110T203000
DTSTAMP:20260419T210626
CREATED:20221101T230751Z
LAST-MODIFIED:20221101T230751Z
UID:4122-1668110400-1668112200@solwin.tv
SUMMARY:Modwash Moments with DeAnn Alaine
DESCRIPTION:DeAnn Alaine knew from a young age that she was called by God to work in ministry. Little did she know that her calling would be as a comedienne\, actor\, TV show host\, and sitcom creator. The Bible says\, we are one body with many parts. DeAnn is the crevice between your toes.
URL:https://solwin.tv/channelschedule/modwash-moments-with-deann-alaine-2/
CATEGORIES:Modwash Moments
END:VEVENT
BEGIN:VEVENT
DTSTART;TZID=America/New_York:20221103T200000
DTEND;TZID=America/New_York:20221103T203000
DTSTAMP:20260419T210626
CREATED:20221101T230711Z
LAST-MODIFIED:20221101T230711Z
UID:4120-1667505600-1667507400@solwin.tv
SUMMARY:Modwash Moments with DeAnn Alaine
DESCRIPTION:DeAnn Alaine knew from a young age that she was called by God to work in ministry. Little did she know that her calling would be as a comedienne\, actor\, TV show host\, and sitcom creator. The Bible says\, we are one body with many parts. DeAnn is the crevice between your toes.
URL:https://solwin.tv/channelschedule/modwash-moments-with-deann-alaine/
CATEGORIES:Modwash Moments
END:VEVENT
END:VCALENDAR