BEGIN:VCALENDAR
VERSION:2.0
PRODID:-//SOLWIN - ECPv6.14.1//NONSGML v1.0//EN
CALSCALE:GREGORIAN
METHOD:PUBLISH
X-WR-CALNAME:SOLWIN
X-ORIGINAL-URL:https://solwin.tv
X-WR-CALDESC:Events for SOLWIN
REFRESH-INTERVAL;VALUE=DURATION:PT1H
X-Robots-Tag:noindex
X-PUBLISHED-TTL:PT1H
BEGIN:VTIMEZONE
TZID:America/New_York
BEGIN:DAYLIGHT
TZOFFSETFROM:-0500
TZOFFSETTO:-0400
TZNAME:EDT
DTSTART:20220313T070000
END:DAYLIGHT
BEGIN:STANDARD
TZOFFSETFROM:-0400
TZOFFSETTO:-0500
TZNAME:EST
DTSTART:20221106T060000
END:STANDARD
BEGIN:DAYLIGHT
TZOFFSETFROM:-0500
TZOFFSETTO:-0400
TZNAME:EDT
DTSTART:20230312T070000
END:DAYLIGHT
BEGIN:STANDARD
TZOFFSETFROM:-0400
TZOFFSETTO:-0500
TZNAME:EST
DTSTART:20231105T060000
END:STANDARD
END:VTIMEZONE
BEGIN:VEVENT
DTSTART;TZID=America/New_York:20230331T200000
DTEND;TZID=America/New_York:20230331T203000
DTSTAMP:20260419T194054
CREATED:20230223T182047Z
LAST-MODIFIED:20230223T182047Z
UID:5828-1680292800-1680294600@solwin.tv
SUMMARY:The Kindred Movement with Tawny Austin
DESCRIPTION:I’m a global-minded girl with a passion for ending poverty\, human trafficking\, & keeping mamas with their babies. I’m a Jesus follower\, wife\, Adult ESL Teacher\, Photographer\, World-traveler & more!My husband and I have been involved with ministry our whole marriage\, both globally & in the USA! I love that TOH allows me to support families around the world while also earning an income & increasing my impact by sharing why Fair Trade & sustainable jobs are so important!
URL:https://solwin.tv/channelschedule/the-kindred-movement-with-tawny-austin-23/
CATEGORIES:The Kindred Movement
END:VEVENT
BEGIN:VEVENT
DTSTART;TZID=America/New_York:20230324T200000
DTEND;TZID=America/New_York:20230324T203000
DTSTAMP:20260419T194054
CREATED:20230223T182045Z
LAST-MODIFIED:20230223T182045Z
UID:5827-1679688000-1679689800@solwin.tv
SUMMARY:The Kindred Movement with Tawny Austin
DESCRIPTION:I’m a global-minded girl with a passion for ending poverty\, human trafficking\, & keeping mamas with their babies. I’m a Jesus follower\, wife\, Adult ESL Teacher\, Photographer\, World-traveler & more!My husband and I have been involved with ministry our whole marriage\, both globally & in the USA! I love that TOH allows me to support families around the world while also earning an income & increasing my impact by sharing why Fair Trade & sustainable jobs are so important!
URL:https://solwin.tv/channelschedule/the-kindred-movement-with-tawny-austin-22/
CATEGORIES:The Kindred Movement
END:VEVENT
BEGIN:VEVENT
DTSTART;TZID=America/New_York:20230317T200000
DTEND;TZID=America/New_York:20230317T203000
DTSTAMP:20260419T194054
CREATED:20230322T172750Z
LAST-MODIFIED:20230322T172750Z
UID:6046-1679083200-1679085000@solwin.tv
SUMMARY:The Kindred Movement with Tawny Austin
DESCRIPTION:I’m a global-minded girl with a passion for ending poverty\, human trafficking\, & keeping mamas with their babies. I’m a Jesus follower\, wife\, Adult ESL Teacher\, Photographer\, World-traveler & more!My husband and I have been involved with ministry our whole marriage\, both globally & in the USA! I love that TOH allows me to support families around the world while also earning an income & increasing my impact by sharing why Fair Trade & sustainable jobs are so important!
URL:https://solwin.tv/channelschedule/the-kindred-movement-with-tawny-austin-25/
CATEGORIES:The Kindred Movement
END:VEVENT
BEGIN:VEVENT
DTSTART;TZID=America/New_York:20230317T200000
DTEND;TZID=America/New_York:20230317T200000
DTSTAMP:20260419T194054
CREATED:20230223T182043Z
LAST-MODIFIED:20230223T182043Z
UID:5826-1679083200-1679083200@solwin.tv
SUMMARY:The Kindred Movement with Tawny Austin
DESCRIPTION:I’m a global-minded girl with a passion for ending poverty\, human trafficking\, & keeping mamas with their babies. I’m a Jesus follower\, wife\, Adult ESL Teacher\, Photographer\, World-traveler & more!My husband and I have been involved with ministry our whole marriage\, both globally & in the USA! I love that TOH allows me to support families around the world while also earning an income & increasing my impact by sharing why Fair Trade & sustainable jobs are so important!
URL:https://solwin.tv/channelschedule/the-kindred-movement-with-tawny-austin-21/
CATEGORIES:The Kindred Movement
END:VEVENT
BEGIN:VEVENT
DTSTART;TZID=America/New_York:20230310T200000
DTEND;TZID=America/New_York:20230310T203000
DTSTAMP:20260419T194054
CREATED:20230322T172750Z
LAST-MODIFIED:20230322T172750Z
UID:6045-1678478400-1678480200@solwin.tv
SUMMARY:The Kindred Movement with Tawny Austin
DESCRIPTION:I’m a global-minded girl with a passion for ending poverty\, human trafficking\, & keeping mamas with their babies. I’m a Jesus follower\, wife\, Adult ESL Teacher\, Photographer\, World-traveler & more!My husband and I have been involved with ministry our whole marriage\, both globally & in the USA! I love that TOH allows me to support families around the world while also earning an income & increasing my impact by sharing why Fair Trade & sustainable jobs are so important!
URL:https://solwin.tv/channelschedule/the-kindred-movement-with-tawny-austin-24/
CATEGORIES:The Kindred Movement
END:VEVENT
BEGIN:VEVENT
DTSTART;TZID=America/New_York:20230310T200000
DTEND;TZID=America/New_York:20230310T200000
DTSTAMP:20260419T194054
CREATED:20230223T182041Z
LAST-MODIFIED:20230223T182041Z
UID:5825-1678478400-1678478400@solwin.tv
SUMMARY:The Kindred Movement with Tawny Austin
DESCRIPTION:I’m a global-minded girl with a passion for ending poverty\, human trafficking\, & keeping mamas with their babies. I’m a Jesus follower\, wife\, Adult ESL Teacher\, Photographer\, World-traveler & more!My husband and I have been involved with ministry our whole marriage\, both globally & in the USA! I love that TOH allows me to support families around the world while also earning an income & increasing my impact by sharing why Fair Trade & sustainable jobs are so important!
URL:https://solwin.tv/channelschedule/the-kindred-movement-with-tawny-austin-20/
CATEGORIES:The Kindred Movement
END:VEVENT
BEGIN:VEVENT
DTSTART;TZID=America/New_York:20230303T200000
DTEND;TZID=America/New_York:20230303T203000
DTSTAMP:20260419T194054
CREATED:20230223T182038Z
LAST-MODIFIED:20230223T182038Z
UID:5824-1677873600-1677875400@solwin.tv
SUMMARY:The Kindred Movement with Tawny Austin
DESCRIPTION:I’m a global-minded girl with a passion for ending poverty\, human trafficking\, & keeping mamas with their babies. I’m a Jesus follower\, wife\, Adult ESL Teacher\, Photographer\, World-traveler & more!My husband and I have been involved with ministry our whole marriage\, both globally & in the USA! I love that TOH allows me to support families around the world while also earning an income & increasing my impact by sharing why Fair Trade & sustainable jobs are so important!
URL:https://solwin.tv/channelschedule/the-kindred-movement-with-tawny-austin-15/
CATEGORIES:The Kindred Movement
END:VEVENT
BEGIN:VEVENT
DTSTART;TZID=America/New_York:20230224T200000
DTEND;TZID=America/New_York:20230224T203000
DTSTAMP:20260419T194054
CREATED:20230124T224813Z
LAST-MODIFIED:20230124T224813Z
UID:5569-1677268800-1677270600@solwin.tv
SUMMARY:The Kindred Movement with Tawny Austin
DESCRIPTION:I’m a global-minded girl with a passion for ending poverty\, human trafficking\, & keeping mamas with their babies. I’m a Jesus follower\, wife\, Adult ESL Teacher\, Photographer\, World-traveler & more!My husband and I have been involved with ministry our whole marriage\, both globally & in the USA! I love that TOH allows me to support families around the world while also earning an income & increasing my impact by sharing why Fair Trade & sustainable jobs are so important!
URL:https://solwin.tv/channelschedule/the-kindred-movement-with-tawny-austin-13/
CATEGORIES:The Kindred Movement
END:VEVENT
BEGIN:VEVENT
DTSTART;TZID=America/New_York:20230217T200000
DTEND;TZID=America/New_York:20230217T203000
DTSTAMP:20260419T194054
CREATED:20230124T224657Z
LAST-MODIFIED:20230124T224657Z
UID:5567-1676664000-1676665800@solwin.tv
SUMMARY:The Kindred Movement with Tawny Austin
DESCRIPTION:I’m a global-minded girl with a passion for ending poverty\, human trafficking\, & keeping mamas with their babies. I’m a Jesus follower\, wife\, Adult ESL Teacher\, Photographer\, World-traveler & more!My husband and I have been involved with ministry our whole marriage\, both globally & in the USA! I love that TOH allows me to support families around the world while also earning an income & increasing my impact by sharing why Fair Trade & sustainable jobs are so important!
URL:https://solwin.tv/channelschedule/the-kindred-movement-with-tawny-austin-12/
CATEGORIES:The Kindred Movement
END:VEVENT
BEGIN:VEVENT
DTSTART;TZID=America/New_York:20230210T200000
DTEND;TZID=America/New_York:20230210T203000
DTSTAMP:20260419T194054
CREATED:20230118T100747Z
LAST-MODIFIED:20230118T100747Z
UID:5413-1676059200-1676061000@solwin.tv
SUMMARY:The Kindred Movement with Tawny Austin
DESCRIPTION:I’m a global-minded girl with a passion for ending poverty\, human trafficking\, & keeping mamas with their babies. I’m a Jesus follower\, wife\, Adult ESL Teacher\, Photographer\, World-traveler & more!My husband and I have been involved with ministry our whole marriage\, both globally & in the USA! I love that TOH allows me to support families around the world while also earning an income & increasing my impact by sharing why Fair Trade & sustainable jobs are so important!
URL:https://solwin.tv/channelschedule/the-kindred-movement-with-tawny-austin-19/
CATEGORIES:The Kindred Movement
END:VEVENT
BEGIN:VEVENT
DTSTART;TZID=America/New_York:20230203T200000
DTEND;TZID=America/New_York:20230203T203000
DTSTAMP:20260419T194054
CREATED:20230118T100747Z
LAST-MODIFIED:20230118T100747Z
UID:5412-1675454400-1675456200@solwin.tv
SUMMARY:The Kindred Movement with Tawny Austin
DESCRIPTION:I’m a global-minded girl with a passion for ending poverty\, human trafficking\, & keeping mamas with their babies. I’m a Jesus follower\, wife\, Adult ESL Teacher\, Photographer\, World-traveler & more!My husband and I have been involved with ministry our whole marriage\, both globally & in the USA! I love that TOH allows me to support families around the world while also earning an income & increasing my impact by sharing why Fair Trade & sustainable jobs are so important!
URL:https://solwin.tv/channelschedule/the-kindred-movement-with-tawny-austin-18/
CATEGORIES:The Kindred Movement
END:VEVENT
BEGIN:VEVENT
DTSTART;TZID=America/New_York:20230127T200000
DTEND;TZID=America/New_York:20230127T203000
DTSTAMP:20260419T194054
CREATED:20230124T224438Z
LAST-MODIFIED:20230124T224438Z
UID:5565-1674849600-1674851400@solwin.tv
SUMMARY:The Kindred Movement with Tawny Austin
DESCRIPTION:I’m a global-minded girl with a passion for ending poverty\, human trafficking\, & keeping mamas with their babies. I’m a Jesus follower\, wife\, Adult ESL Teacher\, Photographer\, World-traveler & more!My husband and I have been involved with ministry our whole marriage\, both globally & in the USA! I love that TOH allows me to support families around the world while also earning an income & increasing my impact by sharing why Fair Trade & sustainable jobs are so important!
URL:https://solwin.tv/channelschedule/the-kindred-movement-with-tawny-austin-10/
CATEGORIES:The Kindred Movement
END:VEVENT
BEGIN:VEVENT
DTSTART;TZID=America/New_York:20230120T200000
DTEND;TZID=America/New_York:20230120T203000
DTSTAMP:20260419T194054
CREATED:20230106T190749Z
LAST-MODIFIED:20230106T190749Z
UID:5236-1674244800-1674246600@solwin.tv
SUMMARY:The Kindred Movement with Tawny Austin
DESCRIPTION:I’m a global-minded girl with a passion for ending poverty\, human trafficking\, & keeping mamas with their babies. I’m a Jesus follower\, wife\, Adult ESL Teacher\, Photographer\, World-traveler & more!My husband and I have been involved with ministry our whole marriage\, both globally & in the USA! I love that TOH allows me to support families around the world while also earning an income & increasing my impact by sharing why Fair Trade & sustainable jobs are so important!
URL:https://solwin.tv/channelschedule/the-kindred-movement-with-tawny-austin-17/
CATEGORIES:The Kindred Movement
END:VEVENT
BEGIN:VEVENT
DTSTART;TZID=America/New_York:20230113T200000
DTEND;TZID=America/New_York:20230113T203000
DTSTAMP:20260419T194054
CREATED:20230106T172425Z
LAST-MODIFIED:20230106T172425Z
UID:5125-1673640000-1673641800@solwin.tv
SUMMARY:The Kindred Movement with Tawny Austin
DESCRIPTION:I’m a global-minded girl with a passion for ending poverty\, human trafficking\, & keeping mamas with their babies. I’m a Jesus follower\, wife\, Adult ESL Teacher\, Photographer\, World-traveler & more!My husband and I have been involved with ministry our whole marriage\, both globally & in the USA! I love that TOH allows me to support families around the world while also earning an income & increasing my impact by sharing why Fair Trade & sustainable jobs are so important!
URL:https://solwin.tv/channelschedule/the-kindred-movement-with-tawny-austin-16/
CATEGORIES:The Kindred Movement
END:VEVENT
BEGIN:VEVENT
DTSTART;TZID=America/New_York:20230106T200000
DTEND;TZID=America/New_York:20230106T203000
DTSTAMP:20260419T194054
CREATED:20230104T164923Z
LAST-MODIFIED:20230104T164923Z
UID:5046-1673035200-1673037000@solwin.tv
SUMMARY:The Kindred Movement with Tawny Austin
DESCRIPTION:I’m a global-minded girl with a passion for ending poverty\, human trafficking\, & keeping mamas with their babies. I’m a Jesus follower\, wife\, Adult ESL Teacher\, Photographer\, World-traveler & more!My husband and I have been involved with ministry our whole marriage\, both globally & in the USA! I love that TOH allows me to support families around the world while also earning an income & increasing my impact by sharing why Fair Trade & sustainable jobs are so important!
URL:https://solwin.tv/channelschedule/the-kindred-movement-with-tawny-austin-14/
CATEGORIES:The Kindred Movement
END:VEVENT
BEGIN:VEVENT
DTSTART;TZID=America/New_York:20230106T000000
DTEND;TZID=America/New_York:20230106T203000
DTSTAMP:20260419T194054
CREATED:20221220T173738Z
LAST-MODIFIED:20221220T173738Z
UID:4844-1672963200-1673037000@solwin.tv
SUMMARY:The Kindred Movement with Tawny Austin
DESCRIPTION:I’m a global-minded girl with a passion for ending poverty\, human trafficking\, & keeping mamas with their babies. I’m a Jesus follower\, wife\, Adult ESL Teacher\, Photographer\, World-traveler & more!My husband and I have been involved with ministry our whole marriage\, both globally & in the USA! I love that TOH allows me to support families around the world while also earning an income & increasing my impact by sharing why Fair Trade & sustainable jobs are so important!
URL:https://solwin.tv/channelschedule/the-kindred-movement-with-tawny-austin-11/
CATEGORIES:The Kindred Movement
END:VEVENT
BEGIN:VEVENT
DTSTART;TZID=America/New_York:20221230T200000
DTEND;TZID=America/New_York:20221230T203000
DTSTAMP:20260419T194054
CREATED:20221201T202814Z
LAST-MODIFIED:20221201T202814Z
UID:4742-1672430400-1672432200@solwin.tv
SUMMARY:The Kindred Movement with Tawny Austin
DESCRIPTION:I’m a global-minded girl with a passion for ending poverty\, human trafficking\, & keeping mamas with their babies. I’m a Jesus follower\, wife\, Adult ESL Teacher\, Photographer\, World-traveler & more!\nMy husband and I have been involved with ministry our whole marriage\, both globally & in the USA! I love that TOH allows me to support families around the world while also earning an income & increasing my impact by sharing why Fair Trade & sustainable jobs are so important!
URL:https://solwin.tv/channelschedule/the-kindred-movement-with-tawny-austin-9/
CATEGORIES:The Kindred Movement
ATTACH;FMTTYPE=image/jpeg:https://solwin.tv/wp-content/uploads/2022/09/Tawny.jpg
END:VEVENT
BEGIN:VEVENT
DTSTART;TZID=America/New_York:20221223T200000
DTEND;TZID=America/New_York:20221223T203000
DTSTAMP:20260419T194054
CREATED:20221201T202554Z
LAST-MODIFIED:20221201T202554Z
UID:4740-1671825600-1671827400@solwin.tv
SUMMARY:The Kindred Movement with Tawny Austin
DESCRIPTION:I’m a global-minded girl with a passion for ending poverty\, human trafficking\, & keeping mamas with their babies. I’m a Jesus follower\, wife\, Adult ESL Teacher\, Photographer\, World-traveler & more!\nMy husband and I have been involved with ministry our whole marriage\, both globally & in the USA! I love that TOH allows me to support families around the world while also earning an income & increasing my impact by sharing why Fair Trade & sustainable jobs are so important!
URL:https://solwin.tv/channelschedule/the-kindred-movement-with-tawny-austin-8/
CATEGORIES:The Kindred Movement
ATTACH;FMTTYPE=image/jpeg:https://solwin.tv/wp-content/uploads/2022/09/Tawny.jpg
END:VEVENT
BEGIN:VEVENT
DTSTART;TZID=America/New_York:20221216T200000
DTEND;TZID=America/New_York:20221216T203000
DTSTAMP:20260419T194054
CREATED:20221201T202228Z
LAST-MODIFIED:20221201T202228Z
UID:4738-1671220800-1671222600@solwin.tv
SUMMARY:The Kindred Movement with Tawny Austin
DESCRIPTION:I’m a global-minded girl with a passion for ending poverty\, human trafficking\, & keeping mamas with their babies. I’m a Jesus follower\, wife\, Adult ESL Teacher\, Photographer\, World-traveler & more!\nMy husband and I have been involved with ministry our whole marriage\, both globally & in the USA! I love that TOH allows me to support families around the world while also earning an income & increasing my impact by sharing why Fair Trade & sustainable jobs are so important!
URL:https://solwin.tv/channelschedule/the-kindred-movement-with-tawny-austin-7/
CATEGORIES:The Kindred Movement
ATTACH;FMTTYPE=image/jpeg:https://solwin.tv/wp-content/uploads/2022/09/Tawny.jpg
END:VEVENT
BEGIN:VEVENT
DTSTART;TZID=America/New_York:20221209T200000
DTEND;TZID=America/New_York:20221209T203000
DTSTAMP:20260419T194054
CREATED:20221201T202020Z
LAST-MODIFIED:20221201T202020Z
UID:4736-1670616000-1670617800@solwin.tv
SUMMARY:The Kindred Movement with Tawny Austin
DESCRIPTION:I’m a global-minded girl with a passion for ending poverty\, human trafficking\, & keeping mamas with their babies. I’m a Jesus follower\, wife\, Adult ESL Teacher\, Photographer\, World-traveler & more!\nMy husband and I have been involved with ministry our whole marriage\, both globally & in the USA! I love that TOH allows me to support families around the world while also earning an income & increasing my impact by sharing why Fair Trade & sustainable jobs are so important!
URL:https://solwin.tv/channelschedule/the-kindred-movement-with-tawny-austin-6/
CATEGORIES:The Kindred Movement
ATTACH;FMTTYPE=image/jpeg:https://solwin.tv/wp-content/uploads/2022/09/Tawny.jpg
END:VEVENT
BEGIN:VEVENT
DTSTART;TZID=America/New_York:20221202T200000
DTEND;TZID=America/New_York:20221202T203000
DTSTAMP:20260419T194054
CREATED:20221201T201810Z
LAST-MODIFIED:20221201T201810Z
UID:4734-1670011200-1670013000@solwin.tv
SUMMARY:The Kindred Movement with Tawny Austin
DESCRIPTION:I’m a global-minded girl with a passion for ending poverty\, human trafficking\, & keeping mamas with their babies. I’m a Jesus follower\, wife\, Adult ESL Teacher\, Photographer\, World-traveler & more!\nMy husband and I have been involved with ministry our whole marriage\, both globally & in the USA! I love that TOH allows me to support families around the world while also earning an income & increasing my impact by sharing why Fair Trade & sustainable jobs are so important!
URL:https://solwin.tv/channelschedule/the-kindred-movement-with-tawny-austin-5/
CATEGORIES:The Kindred Movement
ATTACH;FMTTYPE=image/jpeg:https://solwin.tv/wp-content/uploads/2022/09/Tawny.jpg
END:VEVENT
BEGIN:VEVENT
DTSTART;TZID=America/New_York:20221125T200000
DTEND;TZID=America/New_York:20221125T203000
DTSTAMP:20260419T194054
CREATED:20221101T232804Z
LAST-MODIFIED:20221101T232804Z
UID:4158-1669406400-1669408200@solwin.tv
SUMMARY:The Kindred Movement with Tawny Austin
DESCRIPTION:I’m a global-minded girl with a passion for ending poverty\, human trafficking\, & keeping mamas with their babies. I’m a Jesus follower\, wife\, Adult ESL Teacher\, Photographer\, World-traveler & more!\nMy husband and I have been involved with ministry our whole marriage\, both globally & in the USA! I love that TOH allows me to support families around the world while also earning an income & increasing my impact by sharing why Fair Trade & sustainable jobs are so important!
URL:https://solwin.tv/channelschedule/the-kindred-movement-with-tawny-austin-4/
CATEGORIES:The Kindred Movement
ATTACH;FMTTYPE=image/jpeg:https://solwin.tv/wp-content/uploads/2022/09/Tawny.jpg
END:VEVENT
BEGIN:VEVENT
DTSTART;TZID=America/New_York:20221118T200000
DTEND;TZID=America/New_York:20221118T203000
DTSTAMP:20260419T194054
CREATED:20221101T232724Z
LAST-MODIFIED:20221101T232724Z
UID:4156-1668801600-1668803400@solwin.tv
SUMMARY:The Kindred Movement with Tawny Austin
DESCRIPTION:I’m a global-minded girl with a passion for ending poverty\, human trafficking\, & keeping mamas with their babies. I’m a Jesus follower\, wife\, Adult ESL Teacher\, Photographer\, World-traveler & more!\nMy husband and I have been involved with ministry our whole marriage\, both globally & in the USA! I love that TOH allows me to support families around the world while also earning an income & increasing my impact by sharing why Fair Trade & sustainable jobs are so important!
URL:https://solwin.tv/channelschedule/the-kindred-movement-with-tawny-austin-3/
CATEGORIES:The Kindred Movement
ATTACH;FMTTYPE=image/jpeg:https://solwin.tv/wp-content/uploads/2022/09/Tawny.jpg
END:VEVENT
BEGIN:VEVENT
DTSTART;TZID=America/New_York:20221111T200000
DTEND;TZID=America/New_York:20221111T203000
DTSTAMP:20260419T194054
CREATED:20221101T232621Z
LAST-MODIFIED:20221101T232621Z
UID:4154-1668196800-1668198600@solwin.tv
SUMMARY:The Kindred Movement with Tawny Austin
DESCRIPTION:I’m a global-minded girl with a passion for ending poverty\, human trafficking\, & keeping mamas with their babies. I’m a Jesus follower\, wife\, Adult ESL Teacher\, Photographer\, World-traveler & more!\nMy husband and I have been involved with ministry our whole marriage\, both globally & in the USA! I love that TOH allows me to support families around the world while also earning an income & increasing my impact by sharing why Fair Trade & sustainable jobs are so important!
URL:https://solwin.tv/channelschedule/the-kindred-movement-with-tawny-austin-2/
CATEGORIES:The Kindred Movement
ATTACH;FMTTYPE=image/jpeg:https://solwin.tv/wp-content/uploads/2022/09/Tawny.jpg
END:VEVENT
BEGIN:VEVENT
DTSTART;TZID=America/New_York:20221104T200000
DTEND;TZID=America/New_York:20221104T203000
DTSTAMP:20260419T194054
CREATED:20221101T232533Z
LAST-MODIFIED:20221101T232533Z
UID:4152-1667592000-1667593800@solwin.tv
SUMMARY:The Kindred Movement with Tawny Austin
DESCRIPTION:I’m a global-minded girl with a passion for ending poverty\, human trafficking\, & keeping mamas with their babies. I’m a Jesus follower\, wife\, Adult ESL Teacher\, Photographer\, World-traveler & more!\nMy husband and I have been involved with ministry our whole marriage\, both globally & in the USA! I love that TOH allows me to support families around the world while also earning an income & increasing my impact by sharing why Fair Trade & sustainable jobs are so important!
URL:https://solwin.tv/channelschedule/the-kindred-movement-with-tawny-austin/
CATEGORIES:The Kindred Movement
ATTACH;FMTTYPE=image/jpeg:https://solwin.tv/wp-content/uploads/2022/09/Tawny.jpg
END:VEVENT
END:VCALENDAR