BEGIN:VCALENDAR
VERSION:2.0
PRODID:-//SOLWIN - ECPv6.14.1//NONSGML v1.0//EN
CALSCALE:GREGORIAN
METHOD:PUBLISH
X-WR-CALNAME:SOLWIN
X-ORIGINAL-URL:https://solwin.tv
X-WR-CALDESC:Events for SOLWIN
REFRESH-INTERVAL;VALUE=DURATION:PT1H
X-Robots-Tag:noindex
X-PUBLISHED-TTL:PT1H
BEGIN:VTIMEZONE
TZID:America/New_York
BEGIN:DAYLIGHT
TZOFFSETFROM:-0500
TZOFFSETTO:-0400
TZNAME:EDT
DTSTART:20230312T070000
END:DAYLIGHT
BEGIN:STANDARD
TZOFFSETFROM:-0400
TZOFFSETTO:-0500
TZNAME:EST
DTSTART:20231105T060000
END:STANDARD
END:VTIMEZONE
BEGIN:VEVENT
DTSTART;TZID=America/New_York:20230925T100000
DTEND;TZID=America/New_York:20230925T100000
DTSTAMP:20260423T044540
CREATED:20230828T151318Z
LAST-MODIFIED:20230828T151318Z
UID:7421-1695636000-1695636000@solwin.tv
SUMMARY:The Momma Hood Tales with Ally Phillips
DESCRIPTION:Ally is passionate about helping you see the goodness God has for you. On her podcast we talk all things mindset and life with the lens of Christ. She firmly believes that when we come from gratitude and gain a Christ like perspective on our situations starting with our mindset we are truly unstoppable. Ally became passionate about mindset work and personal growth/ development when she was coaching\, educating\, and mentoring hairstylist. The passion only grew from there as she started growing herself and doing the work. She now loves working one on one with people to help them overcome limiting beliefs and going back to what the Lord says about them.\nAlly loves to travel with her husband\, she is a foodie\, a worship leader\, and a first time momma to her sweet little girl.
URL:https://solwin.tv/channelschedule/the-momma-hood-tales-with-ally-phillips-4/
CATEGORIES:The Momma Hood Tales Podcast
END:VEVENT
BEGIN:VEVENT
DTSTART;TZID=America/New_York:20230918T100000
DTEND;TZID=America/New_York:20230918T100000
DTSTAMP:20260423T044540
CREATED:20230828T151318Z
LAST-MODIFIED:20230828T151318Z
UID:7420-1695031200-1695031200@solwin.tv
SUMMARY:The Momma Hood Tales with Ally Phillips
DESCRIPTION:Ally is passionate about helping you see the goodness God has for you. On her podcast we talk all things mindset and life with the lens of Christ. She firmly believes that when we come from gratitude and gain a Christ like perspective on our situations starting with our mindset we are truly unstoppable. Ally became passionate about mindset work and personal growth/ development when she was coaching\, educating\, and mentoring hairstylist. The passion only grew from there as she started growing herself and doing the work. She now loves working one on one with people to help them overcome limiting beliefs and going back to what the Lord says about them.\nAlly loves to travel with her husband\, she is a foodie\, a worship leader\, and a first time momma to her sweet little girl.
URL:https://solwin.tv/channelschedule/the-momma-hood-tales-with-ally-phillips-3/
CATEGORIES:The Momma Hood Tales Podcast
END:VEVENT
BEGIN:VEVENT
DTSTART;TZID=America/New_York:20230911T100000
DTEND;TZID=America/New_York:20230911T100000
DTSTAMP:20260423T044540
CREATED:20230828T151318Z
LAST-MODIFIED:20230828T151318Z
UID:7419-1694426400-1694426400@solwin.tv
SUMMARY:The Momma Hood Tales with Ally Phillips
DESCRIPTION:Ally is passionate about helping you see the goodness God has for you. On her podcast we talk all things mindset and life with the lens of Christ. She firmly believes that when we come from gratitude and gain a Christ like perspective on our situations starting with our mindset we are truly unstoppable. Ally became passionate about mindset work and personal growth/ development when she was coaching\, educating\, and mentoring hairstylist. The passion only grew from there as she started growing herself and doing the work. She now loves working one on one with people to help them overcome limiting beliefs and going back to what the Lord says about them.\nAlly loves to travel with her husband\, she is a foodie\, a worship leader\, and a first time momma to her sweet little girl.
URL:https://solwin.tv/channelschedule/the-momma-hood-tales-with-ally-phillips-2/
CATEGORIES:The Momma Hood Tales Podcast
END:VEVENT
BEGIN:VEVENT
DTSTART;TZID=America/New_York:20230904T100000
DTEND;TZID=America/New_York:20230904T100000
DTSTAMP:20260423T044540
CREATED:20230828T151318Z
LAST-MODIFIED:20230828T151318Z
UID:7418-1693821600-1693821600@solwin.tv
SUMMARY:The Momma Hood Tales with Ally Phillips
DESCRIPTION:Ally is passionate about helping you see the goodness God has for you. On her podcast we talk all things mindset and life with the lens of Christ. She firmly believes that when we come from gratitude and gain a Christ like perspective on our situations starting with our mindset we are truly unstoppable. Ally became passionate about mindset work and personal growth/ development when she was coaching\, educating\, and mentoring hairstylist. The passion only grew from there as she started growing herself and doing the work. She now loves working one on one with people to help them overcome limiting beliefs and going back to what the Lord says about them.\nAlly loves to travel with her husband\, she is a foodie\, a worship leader\, and a first time momma to her sweet little girl.
URL:https://solwin.tv/channelschedule/the-momma-hood-tales-with-ally-phillips/
CATEGORIES:The Momma Hood Tales Podcast
END:VEVENT
END:VCALENDAR