BEGIN:VCALENDAR
VERSION:2.0
PRODID:-//SOLWIN - ECPv6.14.1//NONSGML v1.0//EN
CALSCALE:GREGORIAN
METHOD:PUBLISH
X-WR-CALNAME:SOLWIN
X-ORIGINAL-URL:https://solwin.tv
X-WR-CALDESC:Events for SOLWIN
REFRESH-INTERVAL;VALUE=DURATION:PT1H
X-Robots-Tag:noindex
X-PUBLISHED-TTL:PT1H
BEGIN:VTIMEZONE
TZID:America/New_York
BEGIN:DAYLIGHT
TZOFFSETFROM:-0500
TZOFFSETTO:-0400
TZNAME:EDT
DTSTART:20240310T070000
END:DAYLIGHT
BEGIN:STANDARD
TZOFFSETFROM:-0400
TZOFFSETTO:-0500
TZNAME:EST
DTSTART:20241103T060000
END:STANDARD
END:VTIMEZONE
BEGIN:VEVENT
DTSTART;TZID=America/New_York:20240126T180000
DTEND;TZID=America/New_York:20240126T183000
DTSTAMP:20260424T074940
CREATED:20240113T000351Z
LAST-MODIFIED:20240113T000351Z
UID:7937-1706292000-1706293800@solwin.tv
SUMMARY:Style Beauty & Grace with Myralynn Ballon
DESCRIPTION:Myralynn Ballon is a Beloved Wife\, a Mother of 3\, an Educator\, Disability & Mental Health Advocate\, Chronic Pain Warrior\, Make-Up Artist\, Motivational Speaker\, Healer\, Humanitarian & Lover of all Things & has received an anointed calling from above to do God’s Work of Spreading Nothing but LOVE\, LIGHT & JOY around the world.
URL:https://solwin.tv/channelschedule/style-beauty-grace-with-myralynn-ballon-56/
CATEGORIES:Style & Grace
END:VEVENT
BEGIN:VEVENT
DTSTART;TZID=America/New_York:20240125T210000
DTEND;TZID=America/New_York:20240125T213000
DTSTAMP:20260424T074940
CREATED:20240113T000150Z
LAST-MODIFIED:20240113T000150Z
UID:7933-1706216400-1706218200@solwin.tv
SUMMARY:Living Fearlessly with Carol Helmick
DESCRIPTION:Join Carol Helmick (and guests) on “Living Fearlessly”; where Bible studies are taught\, Praise reports and Testimonies of healing are shared\, and prophetic utterances and insights are expounded upon.
URL:https://solwin.tv/channelschedule/living-fearlessly-with-carol-helmick-64/
CATEGORIES:Living Fearlessly
END:VEVENT
BEGIN:VEVENT
DTSTART;TZID=America/New_York:20240124T120000
DTEND;TZID=America/New_York:20240124T120000
DTSTAMP:20260424T074940
CREATED:20240112T233953Z
LAST-MODIFIED:20240112T233953Z
UID:7854-1706097600-1706097600@solwin.tv
SUMMARY:SOLWIN TV Presents
DESCRIPTION:A collection of episodes brought to you proudly by SOLWIN TV. Each month we have a new or several new featured podcasters. Tune in to hear about life and God.
URL:https://solwin.tv/channelschedule/solwin-tv-presents-48/
CATEGORIES:SOLWIN TV Presents
END:VEVENT
BEGIN:VEVENT
DTSTART;TZID=America/New_York:20240124T093000
DTEND;TZID=America/New_York:20240124T100000
DTSTAMP:20260424T074940
CREATED:20240112T235949Z
LAST-MODIFIED:20240112T235949Z
UID:7928-1706088600-1706090400@solwin.tv
SUMMARY:Roaring Lambs with Donna Skell
DESCRIPTION:Donna oversees all Roaring Lambs events and Bible studies\, and she co-hosts an international radio show called\, “A Time to Dream” heard worldwide on various radio venues. Donna also hosts the TV Show\, Roaring Lambs\, seen on multiple TV networks. These programs features powerful faith stories. \nPrior to Roaring Lambs\, Donna served with the American Tract Society as spokesperson\, encouraging personal evangelism. Along with her husband\, Anton\, Donna owned and operated a successful chain of ladies fitness clubs in the Dallas/Fort Worth area. Donna especially enjoys speaking to ladies groups\, churches\, and retreats. \nHer rich Jewish heritage and her study of God’s Word enhance her insight into the issues involved in Christian faith and living. In addition to her work with Roaring Lambs\, Donna also serves as an Advisor to both the Fellowship of Professional Women and the Christian Women in Media Association. She has helped author and produce the Stories of Roaring Faith Book Series.
URL:https://solwin.tv/channelschedule/roaring-lambs-with-donna-skell-64/
CATEGORIES:Roaring Lambs
END:VEVENT
BEGIN:VEVENT
DTSTART;TZID=America/New_York:20240124T090000
DTEND;TZID=America/New_York:20240124T093000
DTSTAMP:20260424T074940
CREATED:20240112T235934Z
LAST-MODIFIED:20240112T235934Z
UID:7923-1706086800-1706088600@solwin.tv
SUMMARY:The Christian View with Dr Trudy Simmons
DESCRIPTION:Dr. Trudy Simmons is the Owner and CEO of TAS Productions\, LLC\, which produces The Christian View television show and The Christian View Online Magazine. Dr. Trudy serves as the Host and Executive Producer of The Christian View and Publisher of The Christian View Online Magazine. She has been married since 1997 and a mom since 2006 with two children. Dr. Trudy is an Ordained Minister\, Evangelist\, Bible Teacher Speaker\, Author\, Columnist\, Blogger\, Radio Talk Show Contributor\, Nutritionist/Trainer\, Life Coach\, and Licensed Pastoral Counsel in Atlanta GA. In addition to\, she produced and was the host of “Everyday Living with Dr. Trudy”\, a television talk show filmed in Atlanta. Dr. Trudy is also an avid athlete having completed numerous Ironman triathlons.
URL:https://solwin.tv/channelschedule/the-christian-view-with-dr-trudy-simmons-56/
CATEGORIES:The Christian View
END:VEVENT
BEGIN:VEVENT
DTSTART;TZID=America/New_York:20240123T210000
DTEND;TZID=America/New_York:20240123T220000
DTSTAMP:20260424T074940
CREATED:20240112T235811Z
LAST-MODIFIED:20240112T235811Z
UID:7918-1706043600-1706047200@solwin.tv
SUMMARY:Financial Fix with Teresa McGarry
DESCRIPTION:Financial Fix is a show where you get a chance to learn everything you want to know about money from creating a sticking to a budget to money saving strategies to retirement investing to senior programs and everything in between.\nYou will also have an opportunity to learn more about the non-profit I founded and run based in the Kansas City Metro area\, Moneytalk Financial Foundations.
URL:https://solwin.tv/channelschedule/financial-fix-with-teresa-mcgarry-56/
CATEGORIES:Financial Fix
END:VEVENT
BEGIN:VEVENT
DTSTART;TZID=America/New_York:20240123T200000
DTEND;TZID=America/New_York:20240123T203000
DTSTAMP:20260424T074940
CREATED:20240112T235610Z
LAST-MODIFIED:20240112T235610Z
UID:7913-1706040000-1706041800@solwin.tv
SUMMARY:Relentless Hearts Ministries with Dr Elizabeth Clamon
DESCRIPTION:The amazing God-inspired show will have in-depth Bible studies\, interviews\, conferences\, summits\, and guest all sharing testimonies of God’s great love and his enduringcare for His creations.\nThe goal of this show is to encourage and inspire you to hold tight to your faith and trust in God in all things. We want to help you find your true purpose and live a miraculous life. \nBy hearing stories from others of how God renewed our faith by holding on tight to God.“So that Christ may dwell in your hearts through faith. And I pray that you\, being rooted and established in love\, may have power\, together with all the Lord’s holy people\, to grasp how wide and long and high and deep is the love of Christ.” Ephesians 3:17-18 NIV
URL:https://solwin.tv/channelschedule/relentless-hearts-ministries-with-dr-elizabeth-clamon-60/
CATEGORIES:Relentless Hearts Ministry
END:VEVENT
BEGIN:VEVENT
DTSTART;TZID=America/New_York:20240123T193000
DTEND;TZID=America/New_York:20240123T200000
DTSTAMP:20260424T074940
CREATED:20240112T235531Z
LAST-MODIFIED:20240112T235531Z
UID:7908-1706038200-1706040000@solwin.tv
SUMMARY:Faith & Hope with Sweet Tea & Sass
DESCRIPTION:Arnold and Elizabeth have been married for nearly four decades. In that time\, they raised three children and have been blessed with six grandchildren to date. They have known love and prosperity but have also experienced hardship and tribulation during their marriage. It is through these periods\, that they learned to lean on each other and God to become stronger.
URL:https://solwin.tv/channelschedule/faith-hope-with-sweet-tea-sass-88/
CATEGORIES:Faith & Hope with Sweet Tea & Sass
END:VEVENT
BEGIN:VEVENT
DTSTART;TZID=America/New_York:20240123T190000
DTEND;TZID=America/New_York:20240123T193000
DTSTAMP:20260424T074940
CREATED:20240112T235344Z
LAST-MODIFIED:20240112T235344Z
UID:7903-1706036400-1706038200@solwin.tv
SUMMARY:The Jennifer Sheehan Show
DESCRIPTION:Real people with real stories of redemption\, miracles\, and overcoming.
URL:https://solwin.tv/channelschedule/the-jennifer-sheehan-show-80/
CATEGORIES:The Jennifer Sheenhan Show
END:VEVENT
BEGIN:VEVENT
DTSTART;TZID=America/New_York:20240123T100000
DTEND;TZID=America/New_York:20240123T100000
DTSTAMP:20260424T074940
CREATED:20240112T233950Z
LAST-MODIFIED:20240112T233950Z
UID:7849-1706004000-1706004000@solwin.tv
SUMMARY:Fueled By Faith with Em Vermeer
DESCRIPTION:Welcome to Fueled By Faith with Em Vermeer\, an uplifting podcast presented by SOLWIN TV that resonates with women seeking to infuse faith into every aspect of their lives. Meet Emily\, a devoted wife\, a mother of two\, and a dynamic entrepreneur who discovered her calling by embracing the talents gifted to her by God.\nIn each episode\, Emily shares her multi-passionate journey as she navigates the intricate tapestry of being a wife\, a mom\, and a driven daughter of God. As the co-owner of a business consulting agency with her husband and the founder of Fueled By Faith\, a women’s ministry\, Emily empowers fellow women to live actively and authentically. \nDiscover the joy of embracing a life fueled by faith as Emily delves into Christ-centered discussions\, personal anecdotes\, and expert insights. Whether you’re navigating the challenges of entrepreneurship\, seeking spiritual guidance\, or aiming to fill your cup to overflow\, Fueled By Faith promises to be your source of inspiration and empowerment. \nJoin Emily on this enriching journey where faith\, family\, and entrepreneurship intertwine seamlessly. Tune in for actionable tips\, faith-infused narratives\, and a supportive community of kindred spirits who understand the beauty of being Fueled By Faith. \nSOLWIN TV Presents proudly introduces Fueled By Faith with Em Vermeer” — your go-to podcast for a faith-filled\, empowering experience.
URL:https://solwin.tv/channelschedule/fueled-by-faith-with-em-vermeer-4/
CATEGORIES:Fueled By Faith Podcast
END:VEVENT
BEGIN:VEVENT
DTSTART;TZID=America/New_York:20240122T220000
DTEND;TZID=America/New_York:20240122T223000
DTSTAMP:20260424T074940
CREATED:20240112T235142Z
LAST-MODIFIED:20240112T235142Z
UID:7898-1705960800-1705962600@solwin.tv
SUMMARY:Shades of Beauty with Sable Horton
DESCRIPTION:Shades of Beauty is a non-profit organization that exists to inspire all girls and women to be the best versions of themselves they can be. We do this by helping girls and women develop in several areas; love\, identity\, community\, education\, service\, creativity\, and leadership. Since launching Shades of Beauty Programs\, I have been able to educate hundreds of students and community members about issues such as human trafficking\, mental health\, identity/self-esteem\, and much more.
URL:https://solwin.tv/channelschedule/shades-of-beauty-with-sable-horton-57/
CATEGORIES:Shades of Beauty
END:VEVENT
BEGIN:VEVENT
DTSTART;TZID=America/New_York:20240122T080000
DTEND;TZID=America/New_York:20240122T083000
DTSTAMP:20260424T074940
CREATED:20240112T235128Z
LAST-MODIFIED:20240112T235128Z
UID:7893-1705910400-1705912200@solwin.tv
SUMMARY:Praying with Pastor Erica
DESCRIPTION:Pastor Erica L. Morton is the founder of Touching Lives World-Wide an online ministry that is rooted and grounded in Prayer\, Worship and the Word of God. Touching Lives World-Wide is an Apostolic & Prophetic ministry that is focused on sharing the love of Christ to the lost\, broken\, rejected and hurting souls of this world. Our mission is to encourage\, inspire\, enlighten and empower the believer as well as the non-believer with love and compassion through the Word of God and Prayer!
URL:https://solwin.tv/channelschedule/praying-with-pastor-erica-68/
CATEGORIES:Praying with Pastor Erica
END:VEVENT
BEGIN:VEVENT
DTSTART;TZID=America/New_York:20240121T210000
DTEND;TZID=America/New_York:20240121T213000
DTSTAMP:20260424T074940
CREATED:20240112T235112Z
LAST-MODIFIED:20240112T235112Z
UID:7888-1705870800-1705872600@solwin.tv
SUMMARY:Empower Me with Dr. V.
DESCRIPTION:Valerie is an Apostolic leader with Empowerment Place Ministries and a Licensed Clinical Pastoral Counselor and Certified Temperament Counselor with Empower Me Coaching & Counseling. Valerie completed her MS in Human Behavior\, her MBA\, and a Ph.D. in Christian Counseling. Valerie enjoys serving as a Minister of the Gospel\, Empowerment Coach\, Temperament Counselor\, Marriage/Relationship Counselor\, Mentor\, and more. Valerie is also a published author and international speaker.
URL:https://solwin.tv/channelschedule/empower-me-with-dr-v-52/
CATEGORIES:Empower Me with Dr. V.
END:VEVENT
BEGIN:VEVENT
DTSTART;TZID=America/New_York:20240121T203000
DTEND;TZID=America/New_York:20240121T210000
DTSTAMP:20260424T074940
CREATED:20240112T235057Z
LAST-MODIFIED:20240112T235057Z
UID:7884-1705869000-1705870800@solwin.tv
SUMMARY:Power Fueled Living with Lisa Hooks
DESCRIPTION:Lisa loves the Lord and sharing God’s love with others! She is an ordained minister and facilitates deliverance and restoration through life-changing biblical teaching\, exhortation\, and prophetic delivery. With seventeen years in full-time ministry\, she is the co-founder of Power Fueled Living Ministries with her husband Kenneth. Lisa is the executive producer and host of Power Fueled Living\, a talk show that focuses on helping men and women flow in God’s plan\, provision\, and power. Lisa is the author of Blessing Generations Through Prayer. Along with ministry\, Lisa balances a career as a Christian counselor\, certified Christian life coach\, and podcast host. Lisa enjoys volunteering in her local community and traveling with her husband.
URL:https://solwin.tv/channelschedule/power-fueled-living-with-lisa-hooks-52/
CATEGORIES:Power Fueled Living
END:VEVENT
BEGIN:VEVENT
DTSTART;TZID=America/New_York:20240121T200000
DTEND;TZID=America/New_York:20240121T203000
DTSTAMP:20260424T074940
CREATED:20240112T235057Z
LAST-MODIFIED:20240112T235057Z
UID:7880-1705867200-1705869000@solwin.tv
SUMMARY:The VOW with Dorlisa Adams
DESCRIPTION:While pursuing her education\, Mrs. Adams established a nonprofit organization in 2014 called Visions of Women (V.O.W.) that garnered a 501 (c) (3) status in 2018. This organization is a volunteer-based group that helps teens and college students bring awareness towards teen dating violence\, sexual assault\, intimate partner violence\, and mental health to their college campuses. Today\, students continue to provide self-awareness and prevention tools to their communities.\nV.O.W. arose from Mrs. Adams’s experiences working in domestic violence shelters as well as the prevalence of unhealthy relationships and their negative impact on students in college. During her time at school\, it became apparent that young women were not informed on how to advocate for themselves; had never had a healthy relationship modeled for them; nor were aware of the cycles of abuse or how to break them.
URL:https://solwin.tv/channelschedule/the-vow-with-dorlisa-adams-61/
CATEGORIES:The VOW
END:VEVENT
BEGIN:VEVENT
DTSTART;TZID=America/New_York:20240121T190000
DTEND;TZID=America/New_York:20240121T193000
DTSTAMP:20260424T074940
CREATED:20240112T235041Z
LAST-MODIFIED:20240112T235041Z
UID:7871-1705863600-1705865400@solwin.tv
SUMMARY:Diamonds of Destiny with Alana de la Cruz
DESCRIPTION:As a two time survivor of domestic violence and abuse\, her mission is to help and inspire women\, teens & youth to know their value\, gain self-confidence and discover their true calling in life. Alana’s hopes to inspire love & unity through her first children’s book.
URL:https://solwin.tv/channelschedule/diamonds-of-destiny-with-alana-de-la-cruz-56/
CATEGORIES:Diamonds of Destiny
END:VEVENT
BEGIN:VEVENT
DTSTART;TZID=America/New_York:20240121T110000
DTEND;TZID=America/New_York:20240121T113000
DTSTAMP:20260424T074940
CREATED:20240112T235038Z
LAST-MODIFIED:20240112T235038Z
UID:7867-1705834800-1705836600@solwin.tv
SUMMARY:COFFEE with Kim Crabill
DESCRIPTION:COFFEE with Kim is a testimonial-talk show where real people share their stories of how God’s hope transformed their lives.
URL:https://solwin.tv/channelschedule/coffee-with-kim-crabill-59/
CATEGORIES:COFFEE with Kim
END:VEVENT
BEGIN:VEVENT
DTSTART;TZID=America/New_York:20240119T190000
DTEND;TZID=America/New_York:20240119T193000
DTSTAMP:20260424T074940
CREATED:20240112T233955Z
LAST-MODIFIED:20240112T233955Z
UID:7858-1705690800-1705692600@solwin.tv
SUMMARY:The Jennifer Sheehan Show
DESCRIPTION:Real people with real stories of redemption\, miracles\, and overcoming.
URL:https://solwin.tv/channelschedule/the-jennifer-sheehan-show-75/
CATEGORIES:The Jennifer Sheenhan Show
END:VEVENT
BEGIN:VEVENT
DTSTART;TZID=America/New_York:20240119T180000
DTEND;TZID=America/New_York:20240119T183000
DTSTAMP:20260424T074940
CREATED:20240113T000350Z
LAST-MODIFIED:20240113T000350Z
UID:7936-1705687200-1705689000@solwin.tv
SUMMARY:Style Beauty & Grace with Myralynn Ballon
DESCRIPTION:Myralynn Ballon is a Beloved Wife\, a Mother of 3\, an Educator\, Disability & Mental Health Advocate\, Chronic Pain Warrior\, Make-Up Artist\, Motivational Speaker\, Healer\, Humanitarian & Lover of all Things & has received an anointed calling from above to do God’s Work of Spreading Nothing but LOVE\, LIGHT & JOY around the world.
URL:https://solwin.tv/channelschedule/style-beauty-grace-with-myralynn-ballon-55/
CATEGORIES:Style & Grace
END:VEVENT
BEGIN:VEVENT
DTSTART;TZID=America/New_York:20240118T210000
DTEND;TZID=America/New_York:20240118T213000
DTSTAMP:20260424T074940
CREATED:20240113T000150Z
LAST-MODIFIED:20240113T000150Z
UID:7932-1705611600-1705613400@solwin.tv
SUMMARY:Living Fearlessly with Carol Helmick
DESCRIPTION:Join Carol Helmick (and guests) on “Living Fearlessly”; where Bible studies are taught\, Praise reports and Testimonies of healing are shared\, and prophetic utterances and insights are expounded upon.
URL:https://solwin.tv/channelschedule/living-fearlessly-with-carol-helmick-63/
CATEGORIES:Living Fearlessly
END:VEVENT
BEGIN:VEVENT
DTSTART;TZID=America/New_York:20240117T120000
DTEND;TZID=America/New_York:20240117T120000
DTSTAMP:20260424T074940
CREATED:20240112T233953Z
LAST-MODIFIED:20240112T233953Z
UID:7853-1705492800-1705492800@solwin.tv
SUMMARY:SOLWIN TV Presents
DESCRIPTION:A collection of episodes brought to you proudly by SOLWIN TV. Each month we have a new or several new featured podcasters. Tune in to hear about life and God.
URL:https://solwin.tv/channelschedule/solwin-tv-presents-47/
CATEGORIES:SOLWIN TV Presents
END:VEVENT
BEGIN:VEVENT
DTSTART;TZID=America/New_York:20240117T093000
DTEND;TZID=America/New_York:20240117T100000
DTSTAMP:20260424T074940
CREATED:20240112T235949Z
LAST-MODIFIED:20240112T235949Z
UID:7927-1705483800-1705485600@solwin.tv
SUMMARY:Roaring Lambs with Donna Skell
DESCRIPTION:Donna oversees all Roaring Lambs events and Bible studies\, and she co-hosts an international radio show called\, “A Time to Dream” heard worldwide on various radio venues. Donna also hosts the TV Show\, Roaring Lambs\, seen on multiple TV networks. These programs features powerful faith stories. \nPrior to Roaring Lambs\, Donna served with the American Tract Society as spokesperson\, encouraging personal evangelism. Along with her husband\, Anton\, Donna owned and operated a successful chain of ladies fitness clubs in the Dallas/Fort Worth area. Donna especially enjoys speaking to ladies groups\, churches\, and retreats. \nHer rich Jewish heritage and her study of God’s Word enhance her insight into the issues involved in Christian faith and living. In addition to her work with Roaring Lambs\, Donna also serves as an Advisor to both the Fellowship of Professional Women and the Christian Women in Media Association. She has helped author and produce the Stories of Roaring Faith Book Series.
URL:https://solwin.tv/channelschedule/roaring-lambs-with-donna-skell-63/
CATEGORIES:Roaring Lambs
END:VEVENT
BEGIN:VEVENT
DTSTART;TZID=America/New_York:20240117T090000
DTEND;TZID=America/New_York:20240117T093000
DTSTAMP:20260424T074940
CREATED:20240112T235934Z
LAST-MODIFIED:20240112T235934Z
UID:7922-1705482000-1705483800@solwin.tv
SUMMARY:The Christian View with Dr Trudy Simmons
DESCRIPTION:Dr. Trudy Simmons is the Owner and CEO of TAS Productions\, LLC\, which produces The Christian View television show and The Christian View Online Magazine. Dr. Trudy serves as the Host and Executive Producer of The Christian View and Publisher of The Christian View Online Magazine. She has been married since 1997 and a mom since 2006 with two children. Dr. Trudy is an Ordained Minister\, Evangelist\, Bible Teacher Speaker\, Author\, Columnist\, Blogger\, Radio Talk Show Contributor\, Nutritionist/Trainer\, Life Coach\, and Licensed Pastoral Counsel in Atlanta GA. In addition to\, she produced and was the host of “Everyday Living with Dr. Trudy”\, a television talk show filmed in Atlanta. Dr. Trudy is also an avid athlete having completed numerous Ironman triathlons.
URL:https://solwin.tv/channelschedule/the-christian-view-with-dr-trudy-simmons-55/
CATEGORIES:The Christian View
END:VEVENT
BEGIN:VEVENT
DTSTART;TZID=America/New_York:20240116T210000
DTEND;TZID=America/New_York:20240116T220000
DTSTAMP:20260424T074940
CREATED:20240112T235811Z
LAST-MODIFIED:20240112T235811Z
UID:7917-1705438800-1705442400@solwin.tv
SUMMARY:Financial Fix with Teresa McGarry
DESCRIPTION:Financial Fix is a show where you get a chance to learn everything you want to know about money from creating a sticking to a budget to money saving strategies to retirement investing to senior programs and everything in between.\nYou will also have an opportunity to learn more about the non-profit I founded and run based in the Kansas City Metro area\, Moneytalk Financial Foundations.
URL:https://solwin.tv/channelschedule/financial-fix-with-teresa-mcgarry-55/
CATEGORIES:Financial Fix
END:VEVENT
BEGIN:VEVENT
DTSTART;TZID=America/New_York:20240116T200000
DTEND;TZID=America/New_York:20240116T203000
DTSTAMP:20260424T074940
CREATED:20240112T235610Z
LAST-MODIFIED:20240112T235610Z
UID:7912-1705435200-1705437000@solwin.tv
SUMMARY:Relentless Hearts Ministries with Dr Elizabeth Clamon
DESCRIPTION:The amazing God-inspired show will have in-depth Bible studies\, interviews\, conferences\, summits\, and guest all sharing testimonies of God’s great love and his enduringcare for His creations.\nThe goal of this show is to encourage and inspire you to hold tight to your faith and trust in God in all things. We want to help you find your true purpose and live a miraculous life. \nBy hearing stories from others of how God renewed our faith by holding on tight to God.“So that Christ may dwell in your hearts through faith. And I pray that you\, being rooted and established in love\, may have power\, together with all the Lord’s holy people\, to grasp how wide and long and high and deep is the love of Christ.” Ephesians 3:17-18 NIV
URL:https://solwin.tv/channelschedule/relentless-hearts-ministries-with-dr-elizabeth-clamon-59/
CATEGORIES:Relentless Hearts Ministry
END:VEVENT
BEGIN:VEVENT
DTSTART;TZID=America/New_York:20240116T193000
DTEND;TZID=America/New_York:20240116T200000
DTSTAMP:20260424T074940
CREATED:20240112T235530Z
LAST-MODIFIED:20240112T235530Z
UID:7907-1705433400-1705435200@solwin.tv
SUMMARY:Faith & Hope with Sweet Tea & Sass
DESCRIPTION:Arnold and Elizabeth have been married for nearly four decades. In that time\, they raised three children and have been blessed with six grandchildren to date. They have known love and prosperity but have also experienced hardship and tribulation during their marriage. It is through these periods\, that they learned to lean on each other and God to become stronger.
URL:https://solwin.tv/channelschedule/faith-hope-with-sweet-tea-sass-87/
CATEGORIES:Faith & Hope with Sweet Tea & Sass
END:VEVENT
BEGIN:VEVENT
DTSTART;TZID=America/New_York:20240116T190000
DTEND;TZID=America/New_York:20240116T193000
DTSTAMP:20260424T074940
CREATED:20240112T235344Z
LAST-MODIFIED:20240112T235344Z
UID:7902-1705431600-1705433400@solwin.tv
SUMMARY:The Jennifer Sheehan Show
DESCRIPTION:Real people with real stories of redemption\, miracles\, and overcoming.
URL:https://solwin.tv/channelschedule/the-jennifer-sheehan-show-79/
CATEGORIES:The Jennifer Sheenhan Show
END:VEVENT
BEGIN:VEVENT
DTSTART;TZID=America/New_York:20240116T100000
DTEND;TZID=America/New_York:20240116T100000
DTSTAMP:20260424T074940
CREATED:20240112T233950Z
LAST-MODIFIED:20240112T233950Z
UID:7848-1705399200-1705399200@solwin.tv
SUMMARY:Fueled By Faith with Em Vermeer
DESCRIPTION:Welcome to Fueled By Faith with Em Vermeer\, an uplifting podcast presented by SOLWIN TV that resonates with women seeking to infuse faith into every aspect of their lives. Meet Emily\, a devoted wife\, a mother of two\, and a dynamic entrepreneur who discovered her calling by embracing the talents gifted to her by God.\nIn each episode\, Emily shares her multi-passionate journey as she navigates the intricate tapestry of being a wife\, a mom\, and a driven daughter of God. As the co-owner of a business consulting agency with her husband and the founder of Fueled By Faith\, a women’s ministry\, Emily empowers fellow women to live actively and authentically. \nDiscover the joy of embracing a life fueled by faith as Emily delves into Christ-centered discussions\, personal anecdotes\, and expert insights. Whether you’re navigating the challenges of entrepreneurship\, seeking spiritual guidance\, or aiming to fill your cup to overflow\, Fueled By Faith promises to be your source of inspiration and empowerment. \nJoin Emily on this enriching journey where faith\, family\, and entrepreneurship intertwine seamlessly. Tune in for actionable tips\, faith-infused narratives\, and a supportive community of kindred spirits who understand the beauty of being Fueled By Faith. \nSOLWIN TV Presents proudly introduces Fueled By Faith with Em Vermeer” — your go-to podcast for a faith-filled\, empowering experience.
URL:https://solwin.tv/channelschedule/fueled-by-faith-with-em-vermeer-3/
CATEGORIES:Fueled By Faith Podcast
END:VEVENT
BEGIN:VEVENT
DTSTART;TZID=America/New_York:20240115T220000
DTEND;TZID=America/New_York:20240115T223000
DTSTAMP:20260424T074940
CREATED:20240112T235142Z
LAST-MODIFIED:20240112T235142Z
UID:7897-1705356000-1705357800@solwin.tv
SUMMARY:Shades of Beauty with Sable Horton
DESCRIPTION:Shades of Beauty is a non-profit organization that exists to inspire all girls and women to be the best versions of themselves they can be. We do this by helping girls and women develop in several areas; love\, identity\, community\, education\, service\, creativity\, and leadership. Since launching Shades of Beauty Programs\, I have been able to educate hundreds of students and community members about issues such as human trafficking\, mental health\, identity/self-esteem\, and much more.
URL:https://solwin.tv/channelschedule/shades-of-beauty-with-sable-horton-56/
CATEGORIES:Shades of Beauty
END:VEVENT
BEGIN:VEVENT
DTSTART;TZID=America/New_York:20240115T080000
DTEND;TZID=America/New_York:20240115T083000
DTSTAMP:20260424T074940
CREATED:20240112T235128Z
LAST-MODIFIED:20240112T235128Z
UID:7892-1705305600-1705307400@solwin.tv
SUMMARY:Praying with Pastor Erica
DESCRIPTION:Pastor Erica L. Morton is the founder of Touching Lives World-Wide an online ministry that is rooted and grounded in Prayer\, Worship and the Word of God. Touching Lives World-Wide is an Apostolic & Prophetic ministry that is focused on sharing the love of Christ to the lost\, broken\, rejected and hurting souls of this world. Our mission is to encourage\, inspire\, enlighten and empower the believer as well as the non-believer with love and compassion through the Word of God and Prayer!
URL:https://solwin.tv/channelschedule/praying-with-pastor-erica-67/
CATEGORIES:Praying with Pastor Erica
END:VEVENT
END:VCALENDAR