BEGIN:VCALENDAR
VERSION:2.0
PRODID:-//SOLWIN - ECPv6.14.1//NONSGML v1.0//EN
CALSCALE:GREGORIAN
METHOD:PUBLISH
X-WR-CALNAME:SOLWIN
X-ORIGINAL-URL:https://solwin.tv
X-WR-CALDESC:Events for SOLWIN
REFRESH-INTERVAL;VALUE=DURATION:PT1H
X-Robots-Tag:noindex
X-PUBLISHED-TTL:PT1H
BEGIN:VTIMEZONE
TZID:America/New_York
BEGIN:DAYLIGHT
TZOFFSETFROM:-0500
TZOFFSETTO:-0400
TZNAME:EDT
DTSTART:20240310T070000
END:DAYLIGHT
BEGIN:STANDARD
TZOFFSETFROM:-0400
TZOFFSETTO:-0500
TZNAME:EST
DTSTART:20241103T060000
END:STANDARD
END:VTIMEZONE
BEGIN:VEVENT
DTSTART;TZID=America/New_York:20241222T133000
DTEND;TZID=America/New_York:20241222T140000
DTSTAMP:20260423T075516
CREATED:20241216T185434Z
LAST-MODIFIED:20241216T185434Z
UID:9221-1734874200-1734876000@solwin.tv
SUMMARY:Abundantly Able Podcast with Danielle Renee
DESCRIPTION:Danielle Renee is a podcast host\, entrepreneur\, practitioner (COTA/L)\, domestic violence survivor\, and Certified Christian Life Coach. Danielle has dedicated her life to the Abundantly Able community. The Abundantly Able community is made up of Christians of all ages\, who battle disorders\, disabilities\, and other diagnosis.\nDanielle is the business owner of a faith-based business\, Good Worx Brain Worx LLC which focuses on brain health and life coaching. She has also partnered with a national\, faith-based\, therapy company in order to advocate for\, and rehabilitate the geriatric population.
URL:https://solwin.tv/channelschedule/abundantly-able-podcast-with-danielle-renee-10/
CATEGORIES:Abundantly Able Podcast
ATTACH;FMTTYPE=image/jpeg:https://solwin.tv/wp-content/uploads/2024/12/danielle.jpg
END:VEVENT
BEGIN:VEVENT
DTSTART;TZID=America/New_York:20241222T100000
DTEND;TZID=America/New_York:20241222T103000
DTSTAMP:20260423T075516
CREATED:20241216T184241Z
LAST-MODIFIED:20241216T184241Z
UID:9210-1734861600-1734863400@solwin.tv
SUMMARY:The Worship Room (Live)
DESCRIPTION:The Worship Room is a place where you can find peace\, encouragement\, and inspiration through worship music\, inspirational videos\, Bible studies\, and other resources. It’s a virtual sanctuary where you can connect with God and grow in your faith.
URL:https://solwin.tv/channelschedule/the-worship-room-live/
CATEGORIES:The Worship Room
ATTACH;FMTTYPE=image/png:https://solwin.tv/wp-content/uploads/2024/12/THE-WORSHIP-ROOM-live-replay-PASTOR-ERICA2-1.png
END:VEVENT
BEGIN:VEVENT
DTSTART;TZID=America/New_York:20241219T210000
DTEND;TZID=America/New_York:20241219T213000
DTSTAMP:20260423T075516
CREATED:20241225T154812Z
LAST-MODIFIED:20241225T154812Z
UID:9284-1734642000-1734643800@solwin.tv
SUMMARY:Living Fearlessly with Carol Helmick
DESCRIPTION:Join Carol Helmick (and guests) on “Living Fearlessly”; where Bible studies are taught\, Praise reports and Testimonies of healing are shared\, and prophetic utterances and insights are expounded upon.
URL:https://solwin.tv/channelschedule/living-fearlessly-with-carol-helmick-74/
CATEGORIES:Living Fearlessly
ATTACH;FMTTYPE=image/jpeg:https://solwin.tv/wp-content/uploads/2024/12/carol.jpg
END:VEVENT
BEGIN:VEVENT
DTSTART;TZID=America/New_York:20241217T200000
DTEND;TZID=America/New_York:20241217T203000
DTSTAMP:20260423T075516
CREATED:20241225T154544Z
LAST-MODIFIED:20241225T154544Z
UID:9282-1734465600-1734467400@solwin.tv
SUMMARY:Bullseye Nuclear with Michele Snyder (Podcast)
DESCRIPTION:Michele Snyder is the Founder/Chief Executive Officer of Empowered to Change International\, Inc. Empowered to Change International\, Inc. is a community-based human services non-profit organization that spans across Florida and abroad that reaches the vulnerable in communities.
URL:https://solwin.tv/channelschedule/bullseye-nuclear-with-michele-snyder-podcast-3/
CATEGORIES:Bullseye Nuclear Podcast
ATTACH;FMTTYPE=image/jpeg:https://solwin.tv/wp-content/uploads/2024/12/michele-snyder.jpg
END:VEVENT
BEGIN:VEVENT
DTSTART;TZID=America/New_York:20241217T200000
DTEND;TZID=America/New_York:20241217T203000
DTSTAMP:20260423T075516
CREATED:20241216T194025Z
LAST-MODIFIED:20241216T194025Z
UID:9253-1734465600-1734467400@solwin.tv
SUMMARY:Relentless Hearts Ministries with Dr Elizabeth Clamon
DESCRIPTION:The amazing God-inspired show will have in-depth Bible studies\, interviews\, conferences\, summits\, and guest all sharing testimonies of God’s great love and his enduringcare for His creations.\nThe goal of this show is to encourage and inspire you to hold tight to your faith and trust in God in all things. We want to help you find your true purpose and live a miraculous life. \nBy hearing stories from others of how God renewed our faith by holding on tight to God.“So that Christ may dwell in your hearts through faith. And I pray that you\, being rooted and established in love\, may have power\, together with all the Lord’s holy people\, to grasp how wide and long and high and deep is the love of Christ.” Ephesians 3:17-18 NIV
URL:https://solwin.tv/channelschedule/relentless-hearts-ministries-with-dr-elizabeth-clamon-70/
CATEGORIES:Relentless Hearts Ministry
ATTACH;FMTTYPE=image/jpeg:https://solwin.tv/wp-content/uploads/2024/12/elizabeth.jpg
END:VEVENT
BEGIN:VEVENT
DTSTART;TZID=America/New_York:20241217T190000
DTEND;TZID=America/New_York:20241217T193000
DTSTAMP:20260423T075516
CREATED:20241225T154119Z
LAST-MODIFIED:20241225T154119Z
UID:9276-1734462000-1734463800@solwin.tv
SUMMARY:The Jennifer Sheehan Show
DESCRIPTION:Real people with real stories of redemption\, miracles\, and overcoming.
URL:https://solwin.tv/channelschedule/the-jennifer-sheehan-show-92/
CATEGORIES:The Jennifer Sheenhan Show
ATTACH;FMTTYPE=image/jpeg:https://solwin.tv/wp-content/uploads/2024/12/jennifer.jpg
END:VEVENT
BEGIN:VEVENT
DTSTART;TZID=America/New_York:20241217T100000
DTEND;TZID=America/New_York:20241217T103000
DTSTAMP:20260423T075516
CREATED:20241216T194011Z
LAST-MODIFIED:20241216T194011Z
UID:9244-1734429600-1734431400@solwin.tv
SUMMARY:Fueled By Faith with Em Vermeer
DESCRIPTION:Welcome to Fueled By Faith with Em Vermeer\, an uplifting podcast presented by SOLWIN TV that resonates with women seeking to infuse faith into every aspect of their lives. Meet Emily\, a devoted wife\, a mother of two\, and a dynamic entrepreneur who discovered her calling by embracing the talents gifted to her by God.\nIn each episode\, Emily shares her multi-passionate journey as she navigates the intricate tapestry of being a wife\, a mom\, and a driven daughter of God. As the co-owner of a business consulting agency with her husband and the founder of Fueled By Faith\, a women’s ministry\, Emily empowers fellow women to live actively and authentically. \nJoin Emily on this enriching journey where faith\, family\, and entrepreneurship intertwine seamlessly. Tune in for actionable tips\, faith-infused narratives\, and a supportive community of kindred spirits who understand the beauty of being Fueled By Faith. \nSOLWIN TV Presents proudly introduces Fueled By Faith with Em Vermeer” — your go-to podcast for a faith-filled\, empowering experience.
URL:https://solwin.tv/channelschedule/fueled-by-faith-with-em-vermeer-14/
CATEGORIES:Fueled By Faith Podcast
ATTACH;FMTTYPE=image/png:https://solwin.tv/wp-content/uploads/2024/12/FUELED-BY-FAITH-Emily-Vermeer.png
END:VEVENT
BEGIN:VEVENT
DTSTART;TZID=America/New_York:20240331T210000
DTEND;TZID=America/New_York:20240331T213000
DTSTAMP:20260423T075516
CREATED:20240225T214113Z
LAST-MODIFIED:20240225T214113Z
UID:8170-1711918800-1711920600@solwin.tv
SUMMARY:Empower Me with Dr. V.
DESCRIPTION:Valerie is an Apostolic leader with Empowerment Place Ministries and a Licensed Clinical Pastoral Counselor and Certified Temperament Counselor with Empower Me Coaching & Counseling. Valerie completed her MS in Human Behavior\, her MBA\, and a Ph.D. in Christian Counseling. Valerie enjoys serving as a Minister of the Gospel\, Empowerment Coach\, Temperament Counselor\, Marriage/Relationship Counselor\, Mentor\, and more. Valerie is also a published author and international speaker.
URL:https://solwin.tv/channelschedule/empower-me-with-dr-v-62/
CATEGORIES:Empower Me with Dr. V.
END:VEVENT
BEGIN:VEVENT
DTSTART;TZID=America/New_York:20240331T203000
DTEND;TZID=America/New_York:20240331T210000
DTSTAMP:20260423T075516
CREATED:20240225T214048Z
LAST-MODIFIED:20240225T214048Z
UID:8165-1711917000-1711918800@solwin.tv
SUMMARY:Power Fueled Living with Lisa Hooks
DESCRIPTION:Lisa loves the Lord and sharing God’s love with others! She is an ordained minister and facilitates deliverance and restoration through life-changing biblical teaching\, exhortation\, and prophetic delivery. With seventeen years in full-time ministry\, she is the co-founder of Power Fueled Living Ministries with her husband Kenneth. Lisa is the executive producer and host of Power Fueled Living\, a talk show that focuses on helping men and women flow in God’s plan\, provision\, and power. Lisa is the author of Blessing Generations Through Prayer. Along with ministry\, Lisa balances a career as a Christian counselor\, certified Christian life coach\, and podcast host. Lisa enjoys volunteering in her local community and traveling with her husband.
URL:https://solwin.tv/channelschedule/power-fueled-living-with-lisa-hooks-62/
CATEGORIES:Power Fueled Living
END:VEVENT
BEGIN:VEVENT
DTSTART;TZID=America/New_York:20240331T200000
DTEND;TZID=America/New_York:20240331T203000
DTSTAMP:20260423T075516
CREATED:20240225T214033Z
LAST-MODIFIED:20240225T214033Z
UID:8160-1711915200-1711917000@solwin.tv
SUMMARY:The VOW with Dorlisa Adams
DESCRIPTION:While pursuing her education\, Mrs. Adams established a nonprofit organization in 2014 called Visions of Women (V.O.W.) that garnered a 501 (c) (3) status in 2018. This organization is a volunteer-based group that helps teens and college students bring awareness towards teen dating violence\, sexual assault\, intimate partner violence\, and mental health to their college campuses. Today\, students continue to provide self-awareness and prevention tools to their communities.\nV.O.W. arose from Mrs. Adams’s experiences working in domestic violence shelters as well as the prevalence of unhealthy relationships and their negative impact on students in college. During her time at school\, it became apparent that young women were not informed on how to advocate for themselves; had never had a healthy relationship modeled for them; nor were aware of the cycles of abuse or how to break them.
URL:https://solwin.tv/channelschedule/the-vow-with-dorlisa-adams-71/
CATEGORIES:The VOW
END:VEVENT
BEGIN:VEVENT
DTSTART;TZID=America/New_York:20240331T190000
DTEND;TZID=America/New_York:20240331T193000
DTSTAMP:20260423T075516
CREATED:20240225T214031Z
LAST-MODIFIED:20240225T214031Z
UID:8155-1711911600-1711913400@solwin.tv
SUMMARY:Diamonds of Destiny with Alana de la Cruz
DESCRIPTION:As a two time survivor of domestic violence and abuse\, her mission is to help and inspire women\, teens & youth to know their value\, gain self-confidence and discover their true calling in life. Alana’s hopes to inspire love & unity through her first children’s book.
URL:https://solwin.tv/channelschedule/diamonds-of-destiny-with-alana-de-la-cruz-66/
CATEGORIES:Diamonds of Destiny
END:VEVENT
BEGIN:VEVENT
DTSTART;TZID=America/New_York:20240331T110000
DTEND;TZID=America/New_York:20240331T113000
DTSTAMP:20260423T075516
CREATED:20240225T214029Z
LAST-MODIFIED:20240225T214029Z
UID:8150-1711882800-1711884600@solwin.tv
SUMMARY:COFFEE with Kim Crabill
DESCRIPTION:COFFEE with Kim is a testimonial-talk show where real people share their stories of how God’s hope transformed their lives.
URL:https://solwin.tv/channelschedule/coffee-with-kim-crabill-69/
CATEGORIES:COFFEE with Kim
END:VEVENT
BEGIN:VEVENT
DTSTART;TZID=America/New_York:20240329T200000
DTEND;TZID=America/New_York:20240329T203000
DTSTAMP:20260423T075516
CREATED:20240225T214450Z
LAST-MODIFIED:20240225T214450Z
UID:8212-1711742400-1711744200@solwin.tv
SUMMARY:The Kindred Movement with Tawny Austin
DESCRIPTION:I’m a global-minded girl with a passion for ending poverty\, human trafficking\, & keeping mamas with their babies. I’m a Jesus follower\, wife\, Adult ESL Teacher\, Photographer\, World-traveler & more!My husband and I have been involved with ministry our whole marriage\, both globally & in the USA! I love that TOH allows me to support families around the world while also earning an income & increasing my impact by sharing why Fair Trade & sustainable jobs are so important!
URL:https://solwin.tv/channelschedule/the-kindred-movement-with-tawny-austin-69/
CATEGORIES:The Kindred Movement
END:VEVENT
BEGIN:VEVENT
DTSTART;TZID=America/New_York:20240329T190000
DTEND;TZID=America/New_York:20240329T193000
DTSTAMP:20260423T075516
CREATED:20240225T213922Z
LAST-MODIFIED:20240225T213922Z
UID:8143-1711738800-1711740600@solwin.tv
SUMMARY:The Jennifer Sheehan Podcast
DESCRIPTION:Real people with real stories of redemption\, miracles\, and overcoming.
URL:https://solwin.tv/channelschedule/the-jennifer-sheehan-podcast-9/
CATEGORIES:The Jennifer Sheenhan Show
END:VEVENT
BEGIN:VEVENT
DTSTART;TZID=America/New_York:20240329T180000
DTEND;TZID=America/New_York:20240329T183000
DTSTAMP:20260423T075516
CREATED:20240225T214433Z
LAST-MODIFIED:20240225T214433Z
UID:8207-1711735200-1711737000@solwin.tv
SUMMARY:Style Beauty & Grace with Myralynn Ballon
DESCRIPTION:Myralynn Ballon is a Beloved Wife\, a Mother of 3\, an Educator\, Disability & Mental Health Advocate\, Chronic Pain Warrior\, Make-Up Artist\, Motivational Speaker\, Healer\, Humanitarian & Lover of all Things & has received an anointed calling from above to do God’s Work of Spreading Nothing but LOVE\, LIGHT & JOY around the world.
URL:https://solwin.tv/channelschedule/style-beauty-grace-with-myralynn-ballon-61/
CATEGORIES:Style & Grace
END:VEVENT
BEGIN:VEVENT
DTSTART;TZID=America/New_York:20240328T210000
DTEND;TZID=America/New_York:20240328T213000
DTSTAMP:20260423T075516
CREATED:20240225T214329Z
LAST-MODIFIED:20240225T214329Z
UID:8202-1711659600-1711661400@solwin.tv
SUMMARY:Living Fearlessly with Carol Helmick
DESCRIPTION:Join Carol Helmick (and guests) on “Living Fearlessly”; where Bible studies are taught\, Praise reports and Testimonies of healing are shared\, and prophetic utterances and insights are expounded upon.
URL:https://solwin.tv/channelschedule/living-fearlessly-with-carol-helmick-68/
CATEGORIES:Living Fearlessly
END:VEVENT
BEGIN:VEVENT
DTSTART;TZID=America/New_York:20240327T120000
DTEND;TZID=America/New_York:20240327T120000
DTSTAMP:20260423T075516
CREATED:20240225T213918Z
LAST-MODIFIED:20240225T213918Z
UID:8138-1711540800-1711540800@solwin.tv
SUMMARY:SOLWIN TV Presents
DESCRIPTION:A collection of episodes brought to you proudly by SOLWIN TV. Each month we have a new or several new featured podcasters. Tune in to hear about life and God.
URL:https://solwin.tv/channelschedule/solwin-tv-presents-58/
CATEGORIES:SOLWIN TV Presents
END:VEVENT
BEGIN:VEVENT
DTSTART;TZID=America/New_York:20240327T093000
DTEND;TZID=America/New_York:20240327T100000
DTSTAMP:20260423T075516
CREATED:20240225T214324Z
LAST-MODIFIED:20240225T214324Z
UID:8198-1711531800-1711533600@solwin.tv
SUMMARY:Roaring Lambs with Donna Skell
DESCRIPTION:Donna oversees all Roaring Lambs events and Bible studies\, and she co-hosts an international radio show called\, “A Time to Dream” heard worldwide on various radio venues. Donna also hosts the TV Show\, Roaring Lambs\, seen on multiple TV networks. These programs features powerful faith stories. \nPrior to Roaring Lambs\, Donna served with the American Tract Society as spokesperson\, encouraging personal evangelism. Along with her husband\, Anton\, Donna owned and operated a successful chain of ladies fitness clubs in the Dallas/Fort Worth area. Donna especially enjoys speaking to ladies groups\, churches\, and retreats. \nHer rich Jewish heritage and her study of God’s Word enhance her insight into the issues involved in Christian faith and living. In addition to her work with Roaring Lambs\, Donna also serves as an Advisor to both the Fellowship of Professional Women and the Christian Women in Media Association. She has helped author and produce the Stories of Roaring Faith Book Series.
URL:https://solwin.tv/channelschedule/roaring-lambs-with-donna-skell-69/
CATEGORIES:Roaring Lambs
END:VEVENT
BEGIN:VEVENT
DTSTART;TZID=America/New_York:20240326T210000
DTEND;TZID=America/New_York:20240326T220000
DTSTAMP:20260423T075516
CREATED:20240225T214315Z
LAST-MODIFIED:20240225T214315Z
UID:8194-1711486800-1711490400@solwin.tv
SUMMARY:Financial Fix with Teresa McGarry
DESCRIPTION:Financial Fix is a show where you get a chance to learn everything you want to know about money from creating a sticking to a budget to money saving strategies to retirement investing to senior programs and everything in between.\nYou will also have an opportunity to learn more about the non-profit I founded and run based in the Kansas City Metro area\, Moneytalk Financial Foundations.
URL:https://solwin.tv/channelschedule/financial-fix-with-teresa-mcgarry-61/
CATEGORIES:Financial Fix
END:VEVENT
BEGIN:VEVENT
DTSTART;TZID=America/New_York:20240326T200000
DTEND;TZID=America/New_York:20240326T203000
DTSTAMP:20260423T075516
CREATED:20240225T214300Z
LAST-MODIFIED:20240225T214300Z
UID:8190-1711483200-1711485000@solwin.tv
SUMMARY:Relentless Hearts Ministries with Dr Elizabeth Clamon
DESCRIPTION:The amazing God-inspired show will have in-depth Bible studies\, interviews\, conferences\, summits\, and guest all sharing testimonies of God’s great love and his enduringcare for His creations.\nThe goal of this show is to encourage and inspire you to hold tight to your faith and trust in God in all things. We want to help you find your true purpose and live a miraculous life. \nBy hearing stories from others of how God renewed our faith by holding on tight to God.“So that Christ may dwell in your hearts through faith. And I pray that you\, being rooted and established in love\, may have power\, together with all the Lord’s holy people\, to grasp how wide and long and high and deep is the love of Christ.” Ephesians 3:17-18 NIV
URL:https://solwin.tv/channelschedule/relentless-hearts-ministries-with-dr-elizabeth-clamon-65/
CATEGORIES:Relentless Hearts Ministry
END:VEVENT
BEGIN:VEVENT
DTSTART;TZID=America/New_York:20240326T193000
DTEND;TZID=America/New_York:20240326T200000
DTSTAMP:20260423T075516
CREATED:20240225T214300Z
LAST-MODIFIED:20240225T214300Z
UID:8186-1711481400-1711483200@solwin.tv
SUMMARY:Faith & Hope with Sweet Tea & Sass
DESCRIPTION:Arnold and Elizabeth have been married for nearly four decades. In that time\, they raised three children and have been blessed with six grandchildren to date. They have known love and prosperity but have also experienced hardship and tribulation during their marriage. It is through these periods\, that they learned to lean on each other and God to become stronger.
URL:https://solwin.tv/channelschedule/faith-hope-with-sweet-tea-sass-93/
CATEGORIES:Faith & Hope with Sweet Tea & Sass
END:VEVENT
BEGIN:VEVENT
DTSTART;TZID=America/New_York:20240326T190000
DTEND;TZID=America/New_York:20240326T193000
DTSTAMP:20260423T075516
CREATED:20240225T214258Z
LAST-MODIFIED:20240225T214258Z
UID:8182-1711479600-1711481400@solwin.tv
SUMMARY:The Jennifer Sheehan Show
DESCRIPTION:Real people with real stories of redemption\, miracles\, and overcoming.
URL:https://solwin.tv/channelschedule/the-jennifer-sheehan-show-85/
CATEGORIES:The Jennifer Sheenhan Show
END:VEVENT
BEGIN:VEVENT
DTSTART;TZID=America/New_York:20240326T100000
DTEND;TZID=America/New_York:20240326T100000
DTSTAMP:20260423T075516
CREATED:20240225T213916Z
LAST-MODIFIED:20240225T213916Z
UID:8129-1711447200-1711447200@solwin.tv
SUMMARY:Fueled By Faith with Em Vermeer
DESCRIPTION:Welcome to Fueled By Faith with Em Vermeer\, an uplifting podcast presented by SOLWIN TV that resonates with women seeking to infuse faith into every aspect of their lives. Meet Emily\, a devoted wife\, a mother of two\, and a dynamic entrepreneur who discovered her calling by embracing the talents gifted to her by God.\nIn each episode\, Emily shares her multi-passionate journey as she navigates the intricate tapestry of being a wife\, a mom\, and a driven daughter of God. As the co-owner of a business consulting agency with her husband and the founder of Fueled By Faith\, a women’s ministry\, Emily empowers fellow women to live actively and authentically. \nDiscover the joy of embracing a life fueled by faith as Emily delves into Christ-centered discussions\, personal anecdotes\, and expert insights. Whether you’re navigating the challenges of entrepreneurship\, seeking spiritual guidance\, or aiming to fill your cup to overflow\, Fueled By Faith promises to be your source of inspiration and empowerment. \nJoin Emily on this enriching journey where faith\, family\, and entrepreneurship intertwine seamlessly. Tune in for actionable tips\, faith-infused narratives\, and a supportive community of kindred spirits who understand the beauty of being Fueled By Faith. \nSOLWIN TV Presents proudly introduces Fueled By Faith with Em Vermeer” — your go-to podcast for a faith-filled\, empowering experience.
URL:https://solwin.tv/channelschedule/fueled-by-faith-with-em-vermeer-13/
CATEGORIES:Fueled By Faith Podcast
END:VEVENT
BEGIN:VEVENT
DTSTART;TZID=America/New_York:20240325T220000
DTEND;TZID=America/New_York:20240325T223000
DTSTAMP:20260423T075516
CREATED:20240225T214244Z
LAST-MODIFIED:20240225T214244Z
UID:8178-1711404000-1711405800@solwin.tv
SUMMARY:Shades of Beauty with Sable Horton
DESCRIPTION:Shades of Beauty is a non-profit organization that exists to inspire all girls and women to be the best versions of themselves they can be. We do this by helping girls and women develop in several areas; love\, identity\, community\, education\, service\, creativity\, and leadership. Since launching Shades of Beauty Programs\, I have been able to educate hundreds of students and community members about issues such as human trafficking\, mental health\, identity/self-esteem\, and much more.
URL:https://solwin.tv/channelschedule/shades-of-beauty-with-sable-horton-63/
CATEGORIES:Shades of Beauty
END:VEVENT
BEGIN:VEVENT
DTSTART;TZID=America/New_York:20240325T080000
DTEND;TZID=America/New_York:20240325T083000
DTSTAMP:20260423T075516
CREATED:20240225T214128Z
LAST-MODIFIED:20240225T214128Z
UID:8174-1711353600-1711355400@solwin.tv
SUMMARY:Praying with Pastor Erica
DESCRIPTION:Pastor Erica L. Morton is the founder of Touching Lives World-Wide an online ministry that is rooted and grounded in Prayer\, Worship and the Word of God. Touching Lives World-Wide is an Apostolic & Prophetic ministry that is focused on sharing the love of Christ to the lost\, broken\, rejected and hurting souls of this world. Our mission is to encourage\, inspire\, enlighten and empower the believer as well as the non-believer with love and compassion through the Word of God and Prayer!
URL:https://solwin.tv/channelschedule/praying-with-pastor-erica-77/
CATEGORIES:Praying with Pastor Erica
END:VEVENT
BEGIN:VEVENT
DTSTART;TZID=America/New_York:20240324T210000
DTEND;TZID=America/New_York:20240324T213000
DTSTAMP:20260423T075516
CREATED:20240225T214113Z
LAST-MODIFIED:20240225T214113Z
UID:8169-1711314000-1711315800@solwin.tv
SUMMARY:Empower Me with Dr. V.
DESCRIPTION:Valerie is an Apostolic leader with Empowerment Place Ministries and a Licensed Clinical Pastoral Counselor and Certified Temperament Counselor with Empower Me Coaching & Counseling. Valerie completed her MS in Human Behavior\, her MBA\, and a Ph.D. in Christian Counseling. Valerie enjoys serving as a Minister of the Gospel\, Empowerment Coach\, Temperament Counselor\, Marriage/Relationship Counselor\, Mentor\, and more. Valerie is also a published author and international speaker.
URL:https://solwin.tv/channelschedule/empower-me-with-dr-v-61/
CATEGORIES:Empower Me with Dr. V.
END:VEVENT
BEGIN:VEVENT
DTSTART;TZID=America/New_York:20240324T203000
DTEND;TZID=America/New_York:20240324T210000
DTSTAMP:20260423T075516
CREATED:20240225T214048Z
LAST-MODIFIED:20240225T214048Z
UID:8164-1711312200-1711314000@solwin.tv
SUMMARY:Power Fueled Living with Lisa Hooks
DESCRIPTION:Lisa loves the Lord and sharing God’s love with others! She is an ordained minister and facilitates deliverance and restoration through life-changing biblical teaching\, exhortation\, and prophetic delivery. With seventeen years in full-time ministry\, she is the co-founder of Power Fueled Living Ministries with her husband Kenneth. Lisa is the executive producer and host of Power Fueled Living\, a talk show that focuses on helping men and women flow in God’s plan\, provision\, and power. Lisa is the author of Blessing Generations Through Prayer. Along with ministry\, Lisa balances a career as a Christian counselor\, certified Christian life coach\, and podcast host. Lisa enjoys volunteering in her local community and traveling with her husband.
URL:https://solwin.tv/channelschedule/power-fueled-living-with-lisa-hooks-61/
CATEGORIES:Power Fueled Living
END:VEVENT
BEGIN:VEVENT
DTSTART;TZID=America/New_York:20240324T200000
DTEND;TZID=America/New_York:20240324T203000
DTSTAMP:20260423T075516
CREATED:20240225T214033Z
LAST-MODIFIED:20240225T214033Z
UID:8159-1711310400-1711312200@solwin.tv
SUMMARY:The VOW with Dorlisa Adams
DESCRIPTION:While pursuing her education\, Mrs. Adams established a nonprofit organization in 2014 called Visions of Women (V.O.W.) that garnered a 501 (c) (3) status in 2018. This organization is a volunteer-based group that helps teens and college students bring awareness towards teen dating violence\, sexual assault\, intimate partner violence\, and mental health to their college campuses. Today\, students continue to provide self-awareness and prevention tools to their communities.\nV.O.W. arose from Mrs. Adams’s experiences working in domestic violence shelters as well as the prevalence of unhealthy relationships and their negative impact on students in college. During her time at school\, it became apparent that young women were not informed on how to advocate for themselves; had never had a healthy relationship modeled for them; nor were aware of the cycles of abuse or how to break them.
URL:https://solwin.tv/channelschedule/the-vow-with-dorlisa-adams-70/
CATEGORIES:The VOW
END:VEVENT
BEGIN:VEVENT
DTSTART;TZID=America/New_York:20240324T190000
DTEND;TZID=America/New_York:20240324T193000
DTSTAMP:20260423T075516
CREATED:20240225T214031Z
LAST-MODIFIED:20240225T214031Z
UID:8154-1711306800-1711308600@solwin.tv
SUMMARY:Diamonds of Destiny with Alana de la Cruz
DESCRIPTION:As a two time survivor of domestic violence and abuse\, her mission is to help and inspire women\, teens & youth to know their value\, gain self-confidence and discover their true calling in life. Alana’s hopes to inspire love & unity through her first children’s book.
URL:https://solwin.tv/channelschedule/diamonds-of-destiny-with-alana-de-la-cruz-65/
CATEGORIES:Diamonds of Destiny
END:VEVENT
BEGIN:VEVENT
DTSTART;TZID=America/New_York:20240324T110000
DTEND;TZID=America/New_York:20240324T113000
DTSTAMP:20260423T075516
CREATED:20240225T214029Z
LAST-MODIFIED:20240225T214029Z
UID:8149-1711278000-1711279800@solwin.tv
SUMMARY:COFFEE with Kim Crabill
DESCRIPTION:COFFEE with Kim is a testimonial-talk show where real people share their stories of how God’s hope transformed their lives.
URL:https://solwin.tv/channelschedule/coffee-with-kim-crabill-68/
CATEGORIES:COFFEE with Kim
END:VEVENT
END:VCALENDAR